Workbook
Name _NO1: #REF!
Name _NO1: #REF!
Name _NO1: #REF!
Name _NO1: #REF!
Name _NO1: #REF!
Name _NO1: #REF!
Name _NO1: #REF!
Name _NO1: #REF!
Name _NO1: #REF!
Name _NO1: #REF!
Name _NO1: #REF!
Name _NO1: #REF!
Name _NO1: #REF!
Name _NO1: #REF!
Name _NO1: #REF!
Name _NO1: #REF!
Name _NO1: #REF!
Name _NO1: #REF!
Name _NO1: #REF!
Name _NO1: #REF!
Name _NO10: #REF!
Name _NO10: #REF!
Name _NO10: #REF!
Name _NO10: #REF!
Name _NO10: #REF!
Name _NO10: #REF!
Name _NO10: #REF!
Name _NO10: #REF!
Name _NO10: #REF!
Name _NO10: #REF!
Name _NO10: #REF!
Name _NO10: #REF!
Name _NO10: #REF!
Name _NO10: #REF!
Name _NO10: #REF!
Name _NO10: #REF!
Name _NO10: #REF!
Name _NO10: #REF!
Name _NO10: #REF!
Name _NO10: #REF!
Name _NO2: #REF!
Name _NO2: #REF!
Name _NO2: #REF!
Name _NO2: #REF!
Name _NO2: #REF!
Name _NO2: #REF!
Name _NO2: #REF!
Name _NO2: #REF!
Name _NO2: #REF!
Name _NO2: #REF!
Name _NO2: #REF!
Name _NO2: #REF!
Name _NO2: #REF!
Name _NO2: #REF!
Name _NO2: #REF!
Name _NO2: #REF!
Name _NO2: #REF!
Name _NO2: #REF!
Name _NO2: #REF!
Name _NO2: #REF!

Sheet １
C4: 様 式 第 ２ 号 | I4: －１
AF7: 年 | AI7: 月 | AL7: 日
G10: 年 度 | N10: =IF($X$10="","","令 和") -> 令 和 | X10: ８ | Z10: 年 度
G12: 物件番号 | N12: 第 | W12: ３ | Y12: 号 物 件
G14: 予定数量 | AA14: =IF($W$12="","","㎥") -> ㎥
G16: 申請者
C23: 国有林材の安定供給システムに係る企画提案書
B27: １ | D27: 申請者の事業形態
B29: 【留意事項】
B30: ○申請者別に事業の形態をチェックしてください。複数の事業形態を有する事業者は、 主たる形態にチェックしてください。ここで分類した事業の形態を取組評価点の算定に おいて利用します｡ ○代表者は代表者欄に○を記入してください。
B35: 代表者 | E35: 申請者名 | L35: 事業の形態
L38: □ | M38: 製 材 | P38: □ | Q38: ２×４ | T38: □ | U38: 合単板 | X38: □ | Y38: ＬＶＬ | AB38: □ | AC38: 集成材 | AF38: □ | AG38: チップ | AJ38: □ | AK38: オガ粉
L39: □ | M39: 流 通 | P39: □ | Q39: 発 電 | T39: □ | U39: 住宅メーカー | AB39: □ | AC39: 製 紙 | AF39: □ | AG39: 素材生産
E41: =IF(N16="","",N16) | AP41: ■製 材
AP42: ■２×４
AP43: ■合単板
E44: =IF(Y16="","",Y16) | AP44: ■ＬＶＬ
AP45: ■集成材
AP46: ■チップ
E47: =IF(N18="","",N18) | AP47: ■オガ粉
AP48: ■流 通
AP49: ■発 電
E50: =IF(Y18="","",Y18) | AP50: ■住宅メーカー
AP51: ■製 紙
AP52: ■素材生産
E53: =IF(N20="","",N20)
E56: =IF(Y20="","",Y20)

Sheet ２(製販)
B4: ="（ 申請者："&'１'!N16&" ）" -> （ 申請者： ） | AH4: 価 格 点
B5: ２ | D5: 購入希望価格明細
B6: （１）素材（丸太）のシステム販売
B8: 【留意事項】
B9: ○素材（丸太）の引渡場所に留意の上、物件ごとに作成ください。 ○個別表（樹種別）の太枠内部分に購入希望単価（税抜）を記入してください。 （集計表及び総括表の入力は必要ありません。） ○総括表の購入希望単価（税抜）で価格点を計算します。 ○実際の購入価格は、国の予定価格以上かつ購入希望価格以上となります。 ○数量は収穫調査に基づく概数ですので、確約するものではありません。 ○素材（丸太）の引渡場所以降の運搬その他については、買受人の責任で行います。
B18: 物件番号 | K18: 第 | O18: =IF('１'!$W$12="","",'１'!$W$12) -> ３ | Q18: 号物件
B19: 予定数量 | K19: =IF($O$18="","",VLOOKUP($O$18,整理ＤＢ!$B$5:$N$54,5,FALSE)+VLOOKUP($O$18,整理ＤＢ!$B$5:$N$54,6,FALSE)+VLOOKUP($O$18,整理ＤＢ!$B$5:$N$54,7,FALSE)) -> 4700 | R19: =IF('１'!$W$12="","",IF($K$20=" ","",IF('１'!$V$14="",""," ㎥")))
B20: 素 材（丸 太） の 引 渡 場 所 | K20: =IF('１'!$W$12="","",VLOOKUP('１'!$W$12,整理ＤＢ!$B$5:$N$54,8,FALSE)&" "&VLOOKUP('１'!$W$12,整理ＤＢ!$B$5:$N$54,9,FALSE)) -> 愛媛県北宇和郡鬼北町 に所在する協定希望者が希望する場所
B27: 【 集 計 表 】 | J27: （ 単位：数量 ㎥ 、購入希望価格 円 、購入希望単価 円／㎥ ）
B28: 樹 種 | K28: 数 量 | Q28: 購入希望価格 | Y28: 購入希望単価
Q29: （税抜） | Y29: （税抜）
B30: =IF('１'!$W$12="","",IF(OR(VLOOKUP('１'!$W$12,整理ＤＢ!$B$5:$N$54,2,FALSE)="ス ギ",VLOOKUP('１'!$W$12,整理ＤＢ!$B$5:$N$54,3,FALSE)="ス ギ",VLOOKUP('１'!$W$12,整理ＤＢ!$B$5:$N$54,4,FALSE)="ス ギ"),"スギ","")) -> スギ | K30: =IF($B$30="","",IF(数量ＤＢ!$AD$7="","",数量ＤＢ!$AD$7)) -> 1700 | Q30: =IF($B$30="","",IF(数量ＤＢ!$AD$7="","",'２【ス ギ】'!$AX$54)) | Y30: =IF(ISERROR(ROUND(Q30/K30,0)),"",ROUND(Q30/K30,0))
B31: =IF('１'!$W$12="","",IF(OR(VLOOKUP('１'!$W$12,整理ＤＢ!$B$5:$N$54,2,FALSE)="ヒ ノ キ",VLOOKUP('１'!$W$12,整理ＤＢ!$B$5:$N$54,3,FALSE)="ヒ ノ キ",VLOOKUP('１'!$W$12,整理ＤＢ!$B$5:$N$54,4,FALSE)="ヒ ノ キ"),"ヒノキ","")) -> ヒノキ | K31: =IF($B$31="","",IF(数量ＤＢ!$BZ$7="","",数量ＤＢ!$BZ$7)) -> 1100 | Q31: =IF($B$31="","",IF(数量ＤＢ!$BZ$7="","",'２【ヒノキ】'!$AX$54)) | Y31: =IF(ISERROR(ROUND(Q31/K31,0)),"",ROUND(Q31/K31,0))
B32: =IF('１'!$W$12="","",IF(OR(VLOOKUP('１'!$W$12,整理ＤＢ!$B$5:$N$54,2,FALSE)="低質材Ｎ",VLOOKUP('１'!$W$12,整理ＤＢ!$B$5:$N$54,3,FALSE)="低質材Ｎ",VLOOKUP('１'!$W$12,整理ＤＢ!$B$5:$N$54,4,FALSE)="低質材Ｎ"),"低質材Ｎ","")) -> 低質材Ｎ | K32: =IF($B$32="","",IF(数量ＤＢ!$DV$7="","",数量ＤＢ!$DV$7)) -> 1900 | Q32: =IF($B$32="","",IF(数量ＤＢ!$DV$7="","",'２【低質材】'!$AX$20)) | Y32: =IF(ISERROR(ROUND(Q32/K32,0)),"",ROUND(Q32/K32,0))
B33: 総 計 | K33: =IF(SUM($K$30,$K$31,$K$32)=0,"",SUM($K$30,$K$31,$K$32)) -> 4700 | Q33: =IF(SUM($Q$30,$Q$31,$Q$32)=0,"",SUM($Q$30,$Q$31,$Q$32)) | Y33: =IF(ISERROR(ROUND(Q33/K33,0)),"",ROUND(Q33/K33,0))
B36: 【 総 括 表 】 | J36: （ 単位：購入希望単価 円／㎥ ）
B37: 購入希望単価（税抜） | P37: =IF(ISERROR(ROUND(Q33/K33,0)),"",ROUND(Q33/K33,0))

Sheet ２(製販) (2)
AH4: 価 格 点
B5: ２ | D5: 購入希望価格明細
B6: （１）素材（丸太）のシステム販売
B8: 【留意事項】
B9: ○素材（丸太）の引渡場所に留意の上、物件ごとに作成ください。 ○個別表（樹種別）の太枠内部分に購入希望単価（税抜）を記入してください。 （集計表及び総括表の入力は必要ありません。） ○総括表の購入希望単価（税抜）で価格点を計算します。 ○実際の購入価格は、国の予定価格以上かつ購入希望価格以上となります。 ○数量は収穫調査に基づく概数ですので、確約するものではありません。 ○素材（丸太）の引渡場所以降の運搬その他については、買受人の責任で行います。
B18: 物件番号 | K18: 第 | O18: =IF('１'!$W$12="","",'１'!$W$12) -> ３ | Q18: 号物件
B19: 予定数量 | K19: =IF('１'!$W$12="","",IF($K$20=" ","",VLOOKUP('１'!$W$12,整理ＤＢ!$B$5:$N$54,5,FALSE))) -> 1700 | R19: =IF('１'!$W$12="","",IF($K$20=" ","",IF('１'!$V$14="",""," ㎥")))
B20: 素 材（丸 太） の 引 渡 場 所 | K20: =IF('１'!$W$12="","",VLOOKUP('１'!$W$12,整理ＤＢ!$B$5:$N$54,8,FALSE)&" "&VLOOKUP('１'!$W$12,整理ＤＢ!$B$5:$N$54,9,FALSE)) -> 愛媛県北宇和郡鬼北町 に所在する協定希望者が希望する場所
B27: 【 集 計 表 】 | J27: （ 単位：数量 ㎥ 、購入希望価格 円 ）
B28: 品 等 | E28: 総計 | N28: =IF('１'!$W$12="","",IF(OR(VLOOKUP('１'!$W$12,整理ＤＢ!$B$5:$N$54,2,FALSE)="ス ギ",VLOOKUP('１'!$W$12,整理ＤＢ!$B$5:$N$54,3,FALSE)="ス ギ",VLOOKUP('１'!$W$12,整理ＤＢ!$B$5:$N$54,4,FALSE)="ス ギ"),"スギ","")) -> スギ | W28: =IF('１'!$W$12="","",IF(OR(VLOOKUP('１'!$W$12,整理ＤＢ!$B$5:$N$54,2,FALSE)="ヒ ノ キ",VLOOKUP('１'!$W$12,整理ＤＢ!$B$5:$N$54,3,FALSE)="ヒ ノ キ",VLOOKUP('１'!$W$12,整理ＤＢ!$B$5:$N$54,4,FALSE)="ヒ ノ キ"),"ヒノキ","")) -> ヒノキ | AF28: =IF('１'!$W$12="","",IF(OR(VLOOKUP('１'!$W$12,整理ＤＢ!$B$5:$N$54,2,FALSE)="低質材Ｎ",VLOOKUP('１'!$W$12,整理ＤＢ!$B$5:$N$54,3,FALSE)="低質材Ｎ",VLOOKUP('１'!$W$12,整理ＤＢ!$B$5:$N$54,4,FALSE)="低質材Ｎ"),"低質材Ｎ","")) -> 低質材Ｎ
E29: 数 量 | I29: 購入希望価格 | N29: =IF('１'!$W$12="","",IF(OR(VLOOKUP('１'!$W$12,整理ＤＢ!$B$5:$N$54,2,FALSE)="ス ギ",VLOOKUP('１'!$W$12,整理ＤＢ!$B$5:$N$54,3,FALSE)="ス ギ",VLOOKUP('１'!$W$12,整理ＤＢ!$B$5:$N$54,4,FALSE)="ス ギ"),"数 量","")) -> 数 量 | R29: =IF('１'!$W$12="","",IF(OR(VLOOKUP('１'!$W$12,整理ＤＢ!$B$5:$N$54,2,FALSE)="ス ギ",VLOOKUP('１'!$W$12,整理ＤＢ!$B$5:$N$54,3,FALSE)="ス ギ",VLOOKUP('１'!$W$12,整理ＤＢ!$B$5:$N$54,4,FALSE)="ス ギ"),"購入希望価格","")) -> 購入希望価格 | W29: =IF('１'!$W$12="","",IF(OR(VLOOKUP('１'!$W$12,整理ＤＢ!$B$5:$N$54,2,FALSE)="ヒ ノ キ",VLOOKUP('１'!$W$12,整理ＤＢ!$B$5:$N$54,3,FALSE)="ヒ ノ キ",VLOOKUP('１'!$W$12,整理ＤＢ!$B$5:$N$54,4,FALSE)="ヒ ノ キ"),"数 量","")) -> 数 量 | AA29: =IF('１'!$W$12="","",IF(OR(VLOOKUP('１'!$W$12,整理ＤＢ!$B$5:$N$54,2,FALSE)="ヒ ノ キ",VLOOKUP('１'!$W$12,整理ＤＢ!$B$5:$N$54,3,FALSE)="ヒ ノ キ",VLOOKUP('１'!$W$12,整理ＤＢ!$B$5:$N$54,4,FALSE)="ヒ ノ キ"),"購入希望価格","")) -> 購入希望価格 | AF29: =IF('１'!$W$12="","",IF(OR(VLOOKUP('１'!$W$12,整理ＤＢ!$B$5:$N$54,2,FALSE)="低質材Ｎ",VLOOKUP('１'!$W$12,整理ＤＢ!$B$5:$N$54,3,FALSE)="低質材Ｎ",VLOOKUP('１'!$W$12,整理ＤＢ!$B$5:$N$54,4,FALSE)="低質材Ｎ"),"数 量","")) -> 数 量 | AJ29: =IF('１'!$W$12="","",IF(OR(VLOOKUP('１'!$W$12,整理ＤＢ!$B$5:$N$54,2,FALSE)="低質材Ｎ",VLOOKUP('１'!$W$12,整理ＤＢ!$B$5:$N$54,3,FALSE)="低質材Ｎ",VLOOKUP('１'!$W$12,整理ＤＢ!$B$5:$N$54,4,FALSE)="低質材Ｎ"),"購入希望価格","")) -> 購入希望価格
B30: 直 | E30: － | I30: － | N30: =IF($N$28="","－",IF(数量ＤＢ!$AD$7="","",SUMIF('２【ス ギ】'!$J$9:$J$52,$B$30,'２【ス ギ】'!$M$9:$M$52))) -> 98 | R30: =IF($N$28="","－",IF(数量ＤＢ!$AD$7="","",SUMIF('２【ス ギ】'!$J$9:$J$52,$B$30,'２【ス ギ】'!$X$9:$X$52))) -> 0 | W30: =IF($W$28="","－",IF(数量ＤＢ!$BZ$7="","",SUMIF('２【ヒノキ】'!$J$9:$J$52,$B$30,'２【ヒノキ】'!$M$9:$M$52))) -> 123 | AA30: =IF($W$28="","－",IF(数量ＤＢ!$BZ$7="","",SUMIF('２【ヒノキ】'!$J$9:$J$52,$B$30,'２【ヒノキ】'!$X$9:$X$52))) -> 0 | AF30: － | AJ30: －
B33: 小曲 | E33: － | I33: － | N33: =IF($N$28="","－",IF(数量ＤＢ!$AD$7="","",SUMIF('２【ス ギ】'!$J$9:$J$52,$B$33,'２【ス ギ】'!$M$9:$M$52))) -> 252 | R33: =IF($N$28="","－",IF(数量ＤＢ!$AD$7="","",SUMIF('２【ス ギ】'!$J$9:$J$52,$B$33,'２【ス ギ】'!$X$9:$X$52))) -> 0 | W33: =IF($W$28="","－",IF(数量ＤＢ!$BZ$7="","",SUMIF('２【ヒノキ】'!$J$9:$J$52,$B$33,'２【ヒノキ】'!$M$9:$M$52))) -> 180 | AA33: =IF($W$28="","－",IF(数量ＤＢ!$BZ$7="","",SUMIF('２【ヒノキ】'!$J$9:$J$52,$B$33,'２【ヒノキ】'!$X$9:$X$52))) -> 0 | AF33: － | AJ33: －
B36: 曲 | E36: － | I36: － | N36: =IF($N$28="","－",IF(数量ＤＢ!$AD$7="","",SUMIF('２【ス ギ】'!$J$9:$J$52,$B$36,'２【ス ギ】'!$M$9:$M$52))) -> 377 | R36: =IF($N$28="","－",IF(数量ＤＢ!$AD$7="","",SUMIF('２【ス ギ】'!$J$9:$J$52,$B$36,'２【ス ギ】'!$X$9:$X$52))) -> 0 | W36: =IF($W$28="","－",IF(数量ＤＢ!$BZ$7="","",SUMIF('２【ヒノキ】'!$J$9:$J$52,$B$36,'２【ヒノキ】'!$M$9:$M$52))) -> 286 | AA36: =IF($W$28="","－",IF(数量ＤＢ!$BZ$7="","",SUMIF('２【ヒノキ】'!$J$9:$J$52,$B$36,'２【ヒノキ】'!$X$9:$X$52))) -> 0 | AF36: － | AJ36: －
B39: 等外 | E39: － | I39: － | N39: =IF($N$28="","－",IF(数量ＤＢ!$AD$7="","",SUMIF('２【ス ギ】'!$J$9:$J$52,$B$39,'２【ス ギ】'!$M$9:$M$52))) -> 886 | R39: =IF($N$28="","－",IF(数量ＤＢ!$AD$7="","",SUMIF('２【ス ギ】'!$J$9:$J$52,$B$39,'２【ス ギ】'!$X$9:$X$52))) -> 0 | W39: =IF($W$28="","－",IF(数量ＤＢ!$BZ$7="","",SUMIF('２【ヒノキ】'!$J$9:$J$52,$B$39,'２【ヒノキ】'!$M$9:$M$52))) -> 325 | AA39: =IF($W$28="","－",IF(数量ＤＢ!$BZ$7="","",SUMIF('２【ヒノキ】'!$J$9:$J$52,$B$39,'２【ヒノキ】'!$X$9:$X$52))) -> 0 | AF39: － | AJ39: －
B42: 込 | E42: － | I42: － | N42: =IF($N$28="","－",IF(数量ＤＢ!$AD$7="","",SUMIF('２【ス ギ】'!$J$9:$J$52,$B$42,'２【ス ギ】'!$M$9:$M$52))) -> 87 | R42: =IF($N$28="","－",IF(数量ＤＢ!$AD$7="","",SUMIF('２【ス ギ】'!$J$9:$J$52,$B$42,'２【ス ギ】'!$X$9:$X$52))) -> 0 | W42: =IF($W$28="","－",IF(数量ＤＢ!$BZ$7="","",SUMIF('２【ヒノキ】'!$J$9:$J$52,$B$42,'２【ヒノキ】'!$M$9:$M$52))) -> 186 | AA42: =IF($W$28="","－",IF(数量ＤＢ!$BZ$7="","",SUMIF('２【ヒノキ】'!$J$9:$J$52,$B$42,'２【ヒノキ】'!$X$9:$X$52))) -> 0 | AF42: － | AJ42: －
B45: 低Ｎ | E45: － | I45: － | N45: － | R45: － | W45: － | AA45: － | AF45: =IF($AF$28="","－",IF(数量ＤＢ!$DV$7="","",SUMIF('２【低質材】'!$J$9:$J$56,$B$45,'２【低質材】'!$M$9:$M$56))) -> 1900 | AJ45: =IF($AF$28="","－",IF(数量ＤＢ!$DV$7="","",SUMIF('２【低質材】'!$J$9:$J$56,$B$45,'２【低質材】'!$X$9:$X$56))) -> 0
B48: 総 計 | E48: =IF(SUM($N$48,$W$48,$AF$48)=0,"",SUM($N$48,$W$48,$AF$48)) -> 4700 | I48: =IF(SUM($R$48,$AA$48,$AJ$48)=0,"",SUM($R$48,$AA$48,$AJ$48)) | N48: =IF($N$28="","－",IF(数量ＤＢ!$AD$7="","",IF(数量ＤＢ!$AD$7<>SUM($N$30:$Q$47),"",SUM($N$30:$Q$47)))) -> 1700 | R48: =IF($N$28="","－",IF(数量ＤＢ!$AD$7="","",SUM($R$30:$V$47))) -> 0 | W48: =IF($W$28="","－",IF(数量ＤＢ!$BZ$7="","",IF(数量ＤＢ!$BZ$7<>SUM($W$30:$Z$47),"",SUM($W$30:$Z$47)))) -> 1100 | AA48: =IF($W$28="","－",IF(数量ＤＢ!$BZ$7="","",SUM($AA$30:$AE$47))) -> 0 | AF48: =IF($AF$28="","－",IF(数量ＤＢ!$DV$7="","",IF(数量ＤＢ!$DV$7<>SUM($AF$30:$AI$47),"",SUM($AF$30:$AI$47)))) -> 1900 | AJ48: =IF($AF$28="","－",IF(数量ＤＢ!$DV$7="","",SUM($AJ$30:$AN$47))) -> 0
B53: 【 総 括 表 】 | J53: （ 単位：購入希望単価 円／㎥ ）
B54: 購入希望単価（税抜） | P54: =IF(ISERROR(ROUND(I48/E48,0)),"",ROUND(I48/E48,0))

Sheet ２【印刷用】
B5: 【 個 別 表（ ）】
B6: （ 単位 ： 長級 ｍ 、径級 cm 、数量 ㎥ 、単価 円／㎥ 、価格 円 ）
B7: 長 級 | F7: 径 級 | J7: 品 等 | M7: 数 量 | R7: 購入希望単価 | X7: 購入希望価格 | AE7: 品 等 | AH7: 長 級 | AK7: 径 級 | AN7: 申請価格 (税抜) | AS7: 申請価格 小計(税抜) | AX7: 購入希望価格
R8: （税抜） | X8: （税抜） | AX8: 計（ 税 抜 ）
AA54: 購入希望価格
AA55: 合計（税抜）

Sheet ２【ス　ギ】
B4: ='２(製販)'!B4 -> （ 申請者： ）
B5: 【 個 別 表（ ス ギ ）】
B6: （ 単位 ： 長級 ｍ 、径級 cm 、数量 ㎥ 、単価 円／㎥ 、価格 円 ）
B7: 長 級 | F7: 径 級 | J7: 品 等 | M7: 数 量 | R7: 購入希望単価 | X7: 購入希望価格 | AE7: 品 等 | AH7: 長 級 | AK7: 径 級 | AN7: 申請価格 (税抜) | AS7: 申請価格 小計(税抜) | AX7: 購入希望価格
R8: （税抜） | X8: （税抜） | AX8: 計（ 税 抜 ）
B9: 3.0 | F9: ８～12 | J9: 込 | M9: =IF('１'!$W$12="","",IF(OR(数量ＤＢ!$AD$7<>"",数量ＤＢ!$AD$7<>0),数量ＤＢ!$AT8,"")) -> 35 | X9: =IF($R9="","",ROUND($M9*$R9,0)) | AE9: 直 | AH9: 3.0 | AK9: 14－16 | AN9: =IF($X11="","",$X11) | AS9: =IF(OR($AN9="",$AN10="",$AN11="",$AN12="",$AN13=""),"",SUM($AN9:$AR13)) | AX9: =IF(OR($AN9="",$AN10="",$AN11="",$AN12="",$AN13="",$AN14="",$AN15="",$AN16="",$AN17="",$AN18=""),"",SUM($AN9:$AR18))
F10: 13 | J10: 込 | M10: =IF('１'!$W$12="","",IF(OR(数量ＤＢ!$AD$7<>"",数量ＤＢ!$AD$7<>0),数量ＤＢ!$AT9,"")) -> 27 | X10: =IF($R10="","",ROUND($M10*$R10,0)) | AK10: 18－22 | AN10: =IF($X15="","",$X15)
F11: 14～16 | J11: 直 | M11: =IF('１'!$W$12="","",IF(OR(数量ＤＢ!$AD$7<>"",数量ＤＢ!$AD$7<>0),数量ＤＢ!$AT10,"")) -> 5 | X11: =IF($R11="","",ROUND($M11*$R11,0)) | AK11: 24－28 | AN11: =IF($X19="","",$X19)
J12: 小曲 | M12: =IF('１'!$W$12="","",IF(OR(数量ＤＢ!$AD$7<>"",数量ＤＢ!$AD$7<>0),数量ＤＢ!$AT11,"")) -> 18 | X12: =IF($R12="","",ROUND($M12*$R12,0)) | AK12: 30－36 | AN12: =IF($X23="","",$X23)
J13: 曲 | M13: =IF('１'!$W$12="","",IF(OR(数量ＤＢ!$AD$7<>"",数量ＤＢ!$AD$7<>0),数量ＤＢ!$AT12,"")) -> 29 | X13: =IF($R13="","",ROUND($M13*$R13,0)) | AK13: 38上 | AN13: =IF($X27="","",$X27)
J14: 等外 | M14: =IF('１'!$W$12="","",IF(OR(数量ＤＢ!$AD$7<>"",数量ＤＢ!$AD$7<>0),数量ＤＢ!$AT13,"")) -> 111 | X14: =IF($R14="","",ROUND($M14*$R14,0)) | AH14: 4.0 | AK14: 14－16 | AN14: =IF($X33="","",$X33) | AS14: =IF(OR($AN14="",$AN15="",$AN16="",$AN17="",$AN18=""),"",SUM($AN14:$AR18))
F15: 18～22 | J15: 直 | M15: =IF('１'!$W$12="","",IF(OR(数量ＤＢ!$AD$7<>"",数量ＤＢ!$AD$7<>0),数量ＤＢ!$AT14,"")) -> 14 | X15: =IF($R15="","",ROUND($M15*$R15,0)) | AK15: 18－22 | AN15: =IF($X37="","",$X37)
J16: 小曲 | M16: =IF('１'!$W$12="","",IF(OR(数量ＤＢ!$AD$7<>"",数量ＤＢ!$AD$7<>0),数量ＤＢ!$AT15,"")) -> 51 | X16: =IF($R16="","",ROUND($M16*$R16,0)) | AK16: 24－28 | AN16: =IF($X41="","",$X41)
J17: 曲 | M17: =IF('１'!$W$12="","",IF(OR(数量ＤＢ!$AD$7<>"",数量ＤＢ!$AD$7<>0),数量ＤＢ!$AT16,"")) -> 56 | X17: =IF($R17="","",ROUND($M17*$R17,0)) | AK17: 30－36 | AN17: =IF($X45="","",$X45)
J18: 等外 | M18: =IF('１'!$W$12="","",IF(OR(数量ＤＢ!$AD$7<>"",数量ＤＢ!$AD$7<>0),数量ＤＢ!$AT17,"")) -> 163 | X18: =IF($R18="","",ROUND($M18*$R18,0)) | AK18: 38上 | AN18: =IF($X49="","",$X49)
F19: 24～28 | J19: 直 | M19: =IF('１'!$W$12="","",IF(OR(数量ＤＢ!$AD$7<>"",数量ＤＢ!$AD$7<>0),数量ＤＢ!$AT18,"")) -> 6 | X19: =IF($R19="","",ROUND($M19*$R19,0)) | AE19: 小曲 | AH19: 3.0 | AK19: 14－16 | AN19: =IF($X12="","",$X12) | AS19: =IF(OR($AN19="",$AN20="",$AN21="",$AN22="",$AN23=""),"",SUM($AN19:$AR23)) | AX19: =IF(OR($AN19="",$AN20="",$AN21="",$AN22="",$AN23="",$AN24="",$AN25="",$AN26="",$AN27="",$AN28=""),"",SUM($AN19:$AR28))
J20: 小曲 | M20: =IF('１'!$W$12="","",IF(OR(数量ＤＢ!$AD$7<>"",数量ＤＢ!$AD$7<>0),数量ＤＢ!$AT19,"")) -> 17 | X20: =IF($R20="","",ROUND($M20*$R20,0)) | AK20: 18－22 | AN20: =IF($X16="","",$X16)
J21: 曲 | M21: =IF('１'!$W$12="","",IF(OR(数量ＤＢ!$AD$7<>"",数量ＤＢ!$AD$7<>0),数量ＤＢ!$AT20,"")) -> 22 | X21: =IF($R21="","",ROUND($M21*$R21,0)) | AK21: 24－28 | AN21: =IF($X20="","",$X20)
J22: 等外 | M22: =IF('１'!$W$12="","",IF(OR(数量ＤＢ!$AD$7<>"",数量ＤＢ!$AD$7<>0),数量ＤＢ!$AT21,"")) -> 52 | X22: =IF($R22="","",ROUND($M22*$R22,0)) | AK22: 30－36 | AN22: =IF($X24="","",$X24)
F23: 30～36 | J23: 直 | M23: =IF('１'!$W$12="","",IF(OR(数量ＤＢ!$AD$7<>"",数量ＤＢ!$AD$7<>0),数量ＤＢ!$AT22,"")) -> 2 | X23: =IF($R23="","",ROUND($M23*$R23,0)) | AK23: 38上 | AN23: =IF($X28="","",$X28)
J24: 小曲 | M24: =IF('１'!$W$12="","",IF(OR(数量ＤＢ!$AD$7<>"",数量ＤＢ!$AD$7<>0),数量ＤＢ!$AT23,"")) -> 2 | X24: =IF($R24="","",ROUND($M24*$R24,0)) | AH24: 4.0 | AK24: 14－16 | AN24: =IF($X34="","",$X34) | AS24: =IF(OR($AN24="",$AN25="",$AN26="",$AN27="",$AN28=""),"",SUM($AN24:$AR28))
J25: 曲 | M25: =IF('１'!$W$12="","",IF(OR(数量ＤＢ!$AD$7<>"",数量ＤＢ!$AD$7<>0),数量ＤＢ!$AT24,"")) -> 3 | X25: =IF($R25="","",ROUND($M25*$R25,0)) | AK25: 18－22 | AN25: =IF($X38="","",$X38)
J26: 等外 | M26: =IF('１'!$W$12="","",IF(OR(数量ＤＢ!$AD$7<>"",数量ＤＢ!$AD$7<>0),数量ＤＢ!$AT25,"")) -> 9 | X26: =IF($R26="","",ROUND($M26*$R26,0)) | AK26: 24－28 | AN26: =IF($X42="","",$X42)
F27: 38上 | J27: 直 | M27: =IF('１'!$W$12="","",IF(OR(数量ＤＢ!$AD$7<>"",数量ＤＢ!$AD$7<>0),数量ＤＢ!$AT26,"")) -> 1 | X27: =IF($R27="","",ROUND($M27*$R27,0)) | AK27: 30－36 | AN27: =IF($X46="","",$X46)
J28: 小曲 | M28: =IF('１'!$W$12="","",IF(OR(数量ＤＢ!$AD$7<>"",数量ＤＢ!$AD$7<>0),数量ＤＢ!$AT27,"")) -> 1 | X28: =IF($R28="","",ROUND($M28*$R28,0)) | AK28: 38上 | AN28: =IF($X50="","",$X50)
J29: 曲 | M29: =IF('１'!$W$12="","",IF(OR(数量ＤＢ!$AD$7<>"",数量ＤＢ!$AD$7<>0),数量ＤＢ!$AT28,"")) -> 1 | X29: =IF($R29="","",ROUND($M29*$R29,0)) | AE29: 曲 | AH29: 3.0 | AK29: 14－16 | AN29: =IF($X13="","",$X13) | AS29: =IF(OR($AN29="",$AN30="",$AN31="",$AN32="",$AN33=""),"",SUM($AN29:$AR33)) | AX29: =IF(OR($AN29="",$AN30="",$AN31="",$AN32="",$AN33="",$AN34="",$AN35="",$AN36="",$AN37="",$AN38=""),"",SUM($AN29:$AR38))
J30: 等外 | M30: =IF('１'!$W$12="","",IF(OR(数量ＤＢ!$AD$7<>"",数量ＤＢ!$AD$7<>0),数量ＤＢ!$AT29,"")) -> 1 | X30: =IF($R30="","",ROUND($M30*$R30,0)) | AK30: 18－22 | AN30: =IF($X17="","",$X17)
B31: 4.0 | F31: ８～12 | J31: 込 | M31: =IF('１'!$W$12="","",IF(OR(数量ＤＢ!$AD$7<>"",数量ＤＢ!$AD$7<>0),数量ＤＢ!$AT30,"")) -> 15 | X31: =IF($R31="","",ROUND($M31*$R31,0)) | AK31: 24－28 | AN31: =IF($X21="","",$X21)
F32: 13 | J32: 込 | M32: =IF('１'!$W$12="","",IF(OR(数量ＤＢ!$AD$7<>"",数量ＤＢ!$AD$7<>0),数量ＤＢ!$AT31,"")) -> 10 | X32: =IF($R32="","",ROUND($M32*$R32,0)) | AK32: 30－36 | AN32: =IF($X25="","",$X25)
F33: 14～16 | J33: 直 | M33: =IF('１'!$W$12="","",IF(OR(数量ＤＢ!$AD$7<>"",数量ＤＢ!$AD$7<>0),数量ＤＢ!$AT32,"")) -> 4 | X33: =IF($R33="","",ROUND($M33*$R33,0)) | AK33: 38上 | AN33: =IF($X29="","",$X29)
J34: 小曲 | M34: =IF('１'!$W$12="","",IF(OR(数量ＤＢ!$AD$7<>"",数量ＤＢ!$AD$7<>0),数量ＤＢ!$AT33,"")) -> 9 | X34: =IF($R34="","",ROUND($M34*$R34,0)) | AH34: 4.0 | AK34: 14－16 | AN34: =IF($X35="","",$X35) | AS34: =IF(OR($AN34="",$AN35="",$AN36="",$AN37="",$AN38=""),"",SUM($AN34:$AR38))
J35: 曲 | M35: =IF('１'!$W$12="","",IF(OR(数量ＤＢ!$AD$7<>"",数量ＤＢ!$AD$7<>0),数量ＤＢ!$AT34,"")) -> 21 | X35: =IF($R35="","",ROUND($M35*$R35,0)) | AK35: 18－22 | AN35: =IF($X39="","",$X39)
J36: 等外 | M36: =IF('１'!$W$12="","",IF(OR(数量ＤＢ!$AD$7<>"",数量ＤＢ!$AD$7<>0),数量ＤＢ!$AT35,"")) -> 50 | X36: =IF($R36="","",ROUND($M36*$R36,0)) | AK36: 24－28 | AN36: =IF($X43="","",$X43)
F37: 18～22 | J37: 直 | M37: =IF('１'!$W$12="","",IF(OR(数量ＤＢ!$AD$7<>"",数量ＤＢ!$AD$7<>0),数量ＤＢ!$AT36,"")) -> 19 | X37: =IF($R37="","",ROUND($M37*$R37,0)) | AK37: 30－36 | AN37: =IF($X47="","",$X47)
J38: 小曲 | M38: =IF('１'!$W$12="","",IF(OR(数量ＤＢ!$AD$7<>"",数量ＤＢ!$AD$7<>0),数量ＤＢ!$AT37,"")) -> 49 | X38: =IF($R38="","",ROUND($M38*$R38,0)) | AK38: 38上 | AN38: =IF($X51="","",$X51)
J39: 曲 | M39: =IF('１'!$W$12="","",IF(OR(数量ＤＢ!$AD$7<>"",数量ＤＢ!$AD$7<>0),数量ＤＢ!$AT38,"")) -> 87 | X39: =IF($R39="","",ROUND($M39*$R39,0)) | AE39: 等外 | AH39: 3.0 | AK39: 14－16 | AN39: =IF($X14="","",$X14) | AS39: =IF(OR($AN39="",$AN40="",$AN41="",$AN42="",$AN43=""),"",SUM($AN39:$AR43)) | AX39: =IF(OR($AN39="",$AN40="",$AN41="",$AN42="",$AN43="",$AN44="",$AN45="",$AN46="",$AN47="",$AN48=""),"",SUM($AN39:$AR48))
J40: 等外 | M40: =IF('１'!$W$12="","",IF(OR(数量ＤＢ!$AD$7<>"",数量ＤＢ!$AD$7<>0),数量ＤＢ!$AT39,"")) -> 170 | X40: =IF($R40="","",ROUND($M40*$R40,0)) | AK40: 18－22 | AN40: =IF($X18="","",$X18)
F41: 24～28 | J41: 直 | M41: =IF('１'!$W$12="","",IF(OR(数量ＤＢ!$AD$7<>"",数量ＤＢ!$AD$7<>0),数量ＤＢ!$AT40,"")) -> 26 | X41: =IF($R41="","",ROUND($M41*$R41,0)) | AK41: 24－28 | AN41: =IF($X22="","",$X22)
J42: 小曲 | M42: =IF('１'!$W$12="","",IF(OR(数量ＤＢ!$AD$7<>"",数量ＤＢ!$AD$7<>0),数量ＤＢ!$AT41,"")) -> 66 | X42: =IF($R42="","",ROUND($M42*$R42,0)) | AK42: 30－36 | AN42: =IF($X26="","",$X26)
J43: 曲 | M43: =IF('１'!$W$12="","",IF(OR(数量ＤＢ!$AD$7<>"",数量ＤＢ!$AD$7<>0),数量ＤＢ!$AT42,"")) -> 97 | X43: =IF($R43="","",ROUND($M43*$R43,0)) | AK43: 38上 | AN43: =IF($X30="","",$X30)
...

Sheet ２【ヒノキ】
B4: ='２(製販)'!B4 -> （ 申請者： ）
B5: 【 個 別 表（ ヒ ノ キ ）】
B6: （ 単位 ： 長級 ｍ 、径級 cm 、数量 ㎥ 、単価 円／㎥ 、価格 円 ）
B7: 長 級 | F7: 径 級 | J7: 品 等 | M7: 数 量 | R7: 購入希望単価 | X7: 購入希望価格 | AE7: 品 等 | AH7: 長 級 | AK7: 径 級 | AN7: 申請価格 (税抜) | AS7: 申請価格 小計(税抜) | AX7: 購入希望価格
R8: （税抜） | X8: （税抜） | AX8: 計（ 税 抜 ）
B9: 3.0 | F9: ８～12 | J9: 込 | M9: =IF('１'!$W$12="","",IF(OR(数量ＤＢ!$BZ$7<>"",数量ＤＢ!$BZ$7<>0),数量ＤＢ!$CP8,"")) -> 72 | X9: =IF($R9="","",$M9*$R9) | AE9: 直 | AH9: 3.00 | AK9: 14－16 | AN9: =IF($X11="","",$X11) | AS9: =IF(OR($AN9="",$AN10="",$AN11="",$AN12="",$AN13=""),"",SUM($AN9:$AR13)) | AX9: =IF(OR($AN9="",$AN10="",$AN11="",$AN12="",$AN13="",$AN14="",$AN15="",$AN16="",$AN17="",$AN18=""),"",SUM($AN9:$AR18))
F10: 13 | J10: 込 | M10: =IF('１'!$W$12="","",IF(OR(数量ＤＢ!$BZ$7<>"",数量ＤＢ!$BZ$7<>0),数量ＤＢ!$CP9,"")) -> 41 | X10: =IF($R10="","",$M10*$R10) | AK10: 18－22 | AN10: =IF($X15="","",$X15)
F11: 14～16 | J11: 直 | M11: =IF('１'!$W$12="","",IF(OR(数量ＤＢ!$BZ$7<>"",数量ＤＢ!$BZ$7<>0),数量ＤＢ!$CP10,"")) -> 24 | X11: =IF($R11="","",$M11*$R11) | AK11: 24－28 | AN11: =IF($X19="","",$X19)
J12: 小曲 | M12: =IF('１'!$W$12="","",IF(OR(数量ＤＢ!$BZ$7<>"",数量ＤＢ!$BZ$7<>0),数量ＤＢ!$CP11,"")) -> 38 | X12: =IF($R12="","",$M12*$R12) | AK12: 30－36 | AN12: =IF($X23="","",$X23)
J13: 曲 | M13: =IF('１'!$W$12="","",IF(OR(数量ＤＢ!$BZ$7<>"",数量ＤＢ!$BZ$7<>0),数量ＤＢ!$CP12,"")) -> 62 | X13: =IF($R13="","",$M13*$R13) | AK13: 38上 | AN13: =IF($X27="","",$X27)
J14: 等外 | M14: =IF('１'!$W$12="","",IF(OR(数量ＤＢ!$BZ$7<>"",数量ＤＢ!$BZ$7<>0),数量ＤＢ!$CP13,"")) -> 73 | X14: =IF($R14="","",$M14*$R14) | AH14: 4.00 | AK14: 14－16 | AN14: =IF($X33="","",$X33) | AS14: =IF(OR($AN14="",$AN15="",$AN16="",$AN17="",$AN18=""),"",SUM($AN14:$AR18))
F15: 18～22 | J15: 直 | M15: =IF('１'!$W$12="","",IF(OR(数量ＤＢ!$BZ$7<>"",数量ＤＢ!$BZ$7<>0),数量ＤＢ!$CP14,"")) -> 31 | X15: =IF($R15="","",$M15*$R15) | AK15: 18－22 | AN15: =IF($X37="","",$X37)
J16: 小曲 | M16: =IF('１'!$W$12="","",IF(OR(数量ＤＢ!$BZ$7<>"",数量ＤＢ!$BZ$7<>0),数量ＤＢ!$CP15,"")) -> 40 | X16: =IF($R16="","",$M16*$R16) | AK16: 24－28 | AN16: =IF($X41="","",$X41)
J17: 曲 | M17: =IF('１'!$W$12="","",IF(OR(数量ＤＢ!$BZ$7<>"",数量ＤＢ!$BZ$7<>0),数量ＤＢ!$CP16,"")) -> 56 | X17: =IF($R17="","",$M17*$R17) | AK17: 30－36 | AN17: =IF($X45="","",$X45)
J18: 等外 | M18: =IF('１'!$W$12="","",IF(OR(数量ＤＢ!$BZ$7<>"",数量ＤＢ!$BZ$7<>0),数量ＤＢ!$CP17,"")) -> 67 | X18: =IF($R18="","",$M18*$R18) | AK18: 38上 | AN18: =IF($X49="","",$X49)
F19: 24～28 | J19: 直 | M19: =IF('１'!$W$12="","",IF(OR(数量ＤＢ!$BZ$7<>"",数量ＤＢ!$BZ$7<>0),数量ＤＢ!$CP18,"")) -> 3 | X19: =IF($R19="","",$M19*$R19) | AE19: 小曲 | AH19: 3.00 | AK19: 14－16 | AN19: =IF($X12="","",$X12) | AS19: =IF(OR($AN19="",$AN20="",$AN21="",$AN22="",$AN23=""),"",SUM($AN19:$AR23)) | AX19: =IF(OR($AN19="",$AN20="",$AN21="",$AN22="",$AN23="",$AN24="",$AN25="",$AN26="",$AN27="",$AN28=""),"",SUM($AN19:$AR28))
J20: 小曲 | M20: =IF('１'!$W$12="","",IF(OR(数量ＤＢ!$BZ$7<>"",数量ＤＢ!$BZ$7<>0),数量ＤＢ!$CP19,"")) -> 5 | X20: =IF($R20="","",$M20*$R20) | AK20: 18－22 | AN20: =IF($X16="","",$X16)
J21: 曲 | M21: =IF('１'!$W$12="","",IF(OR(数量ＤＢ!$BZ$7<>"",数量ＤＢ!$BZ$7<>0),数量ＤＢ!$CP20,"")) -> 7 | X21: =IF($R21="","",$M21*$R21) | AK21: 24－28 | AN21: =IF($X20="","",$X20)
J22: 等外 | M22: =IF('１'!$W$12="","",IF(OR(数量ＤＢ!$BZ$7<>"",数量ＤＢ!$BZ$7<>0),数量ＤＢ!$CP21,"")) -> 11 | X22: =IF($R22="","",$M22*$R22) | AK22: 30－36 | AN22: =IF($X24="","",$X24)
F23: 30～36 | J23: 直 | M23: =IF('１'!$W$12="","",IF(OR(数量ＤＢ!$BZ$7<>"",数量ＤＢ!$BZ$7<>0),数量ＤＢ!$CP22,"")) -> 1 | X23: =IF($R23="","",$M23*$R23) | AK23: 38上 | AN23: =IF($X28="","",$X28)
J24: 小曲 | M24: =IF('１'!$W$12="","",IF(OR(数量ＤＢ!$BZ$7<>"",数量ＤＢ!$BZ$7<>0),数量ＤＢ!$CP23,"")) -> 1 | X24: =IF($R24="","",$M24*$R24) | AH24: 4.00 | AK24: 14－16 | AN24: =IF($X34="","",$X34) | AS24: =IF(OR($AN24="",$AN25="",$AN26="",$AN27="",$AN28=""),"",SUM($AN24:$AR28))
J25: 曲 | M25: =IF('１'!$W$12="","",IF(OR(数量ＤＢ!$BZ$7<>"",数量ＤＢ!$BZ$7<>0),数量ＤＢ!$CP24,"")) -> 1 | X25: =IF($R25="","",$M25*$R25) | AK25: 18－22 | AN25: =IF($X38="","",$X38)
J26: 等外 | M26: =IF('１'!$W$12="","",IF(OR(数量ＤＢ!$BZ$7<>"",数量ＤＢ!$BZ$7<>0),数量ＤＢ!$CP25,"")) -> 1 | X26: =IF($R26="","",$M26*$R26) | AK26: 24－28 | AN26: =IF($X42="","",$X42)
F27: 38上 | J27: 直 | M27: =IF('１'!$W$12="","",IF(OR(数量ＤＢ!$BZ$7<>"",数量ＤＢ!$BZ$7<>0),数量ＤＢ!$CP26,"")) -> 1 | X27: =IF($R27="","",$M27*$R27) | AK27: 30－36 | AN27: =IF($X46="","",$X46)
J28: 小曲 | M28: =IF('１'!$W$12="","",IF(OR(数量ＤＢ!$BZ$7<>"",数量ＤＢ!$BZ$7<>0),数量ＤＢ!$CP27,"")) -> 1 | X28: =IF($R28="","",$M28*$R28) | AK28: 38上 | AN28: =IF($X50="","",$X50)
J29: 曲 | M29: =IF('１'!$W$12="","",IF(OR(数量ＤＢ!$BZ$7<>"",数量ＤＢ!$BZ$7<>0),数量ＤＢ!$CP28,"")) -> 1 | X29: =IF($R29="","",$M29*$R29) | AE29: 曲 | AH29: 3.00 | AK29: 14－16 | AN29: =IF($X13="","",$X13) | AS29: =IF(OR($AN29="",$AN30="",$AN31="",$AN32="",$AN33=""),"",SUM($AN29:$AR33)) | AX29: =IF(OR($AN29="",$AN30="",$AN31="",$AN32="",$AN33="",$AN34="",$AN35="",$AN36="",$AN37="",$AN38=""),"",SUM($AN29:$AR38))
J30: 等外 | M30: =IF('１'!$W$12="","",IF(OR(数量ＤＢ!$BZ$7<>"",数量ＤＢ!$BZ$7<>0),数量ＤＢ!$CP29,"")) -> 1 | X30: =IF($R30="","",$M30*$R30) | AK30: 18－22 | AN30: =IF($X17="","",$X17)
B31: 4.0 | F31: ８～12 | J31: 込 | M31: =IF('１'!$W$12="","",IF(OR(数量ＤＢ!$BZ$7<>"",数量ＤＢ!$BZ$7<>0),数量ＤＢ!$CP30,"")) -> 50 | X31: =IF($R31="","",$M31*$R31) | AK31: 24－28 | AN31: =IF($X21="","",$X21)
F32: 13 | J32: 込 | M32: =IF('１'!$W$12="","",IF(OR(数量ＤＢ!$BZ$7<>"",数量ＤＢ!$BZ$7<>0),数量ＤＢ!$CP31,"")) -> 23 | X32: =IF($R32="","",$M32*$R32) | AK32: 30－36 | AN32: =IF($X25="","",$X25)
F33: 14～16 | J33: 直 | M33: =IF('１'!$W$12="","",IF(OR(数量ＤＢ!$BZ$7<>"",数量ＤＢ!$BZ$7<>0),数量ＤＢ!$CP32,"")) -> 18 | X33: =IF($R33="","",$M33*$R33) | AK33: 38上 | AN33: =IF($X29="","",$X29)
J34: 小曲 | M34: =IF('１'!$W$12="","",IF(OR(数量ＤＢ!$BZ$7<>"",数量ＤＢ!$BZ$7<>0),数量ＤＢ!$CP33,"")) -> 31 | X34: =IF($R34="","",$M34*$R34) | AH34: 4.00 | AK34: 14－16 | AN34: =IF($X35="","",$X35) | AS34: =IF(OR($AN34="",$AN35="",$AN36="",$AN37="",$AN38=""),"",SUM($AN34:$AR38))
J35: 曲 | M35: =IF('１'!$W$12="","",IF(OR(数量ＤＢ!$BZ$7<>"",数量ＤＢ!$BZ$7<>0),数量ＤＢ!$CP34,"")) -> 46 | X35: =IF($R35="","",$M35*$R35) | AK35: 18－22 | AN35: =IF($X39="","",$X39)
J36: 等外 | M36: =IF('１'!$W$12="","",IF(OR(数量ＤＢ!$BZ$7<>"",数量ＤＢ!$BZ$7<>0),数量ＤＢ!$CP35,"")) -> 53 | X36: =IF($R36="","",$M36*$R36) | AK36: 24－28 | AN36: =IF($X43="","",$X43)
F37: 18～22 | J37: 直 | M37: =IF('１'!$W$12="","",IF(OR(数量ＤＢ!$BZ$7<>"",数量ＤＢ!$BZ$7<>0),数量ＤＢ!$CP36,"")) -> 32 | X37: =IF($R37="","",$M37*$R37) | AK37: 30－36 | AN37: =IF($X47="","",$X47)
J38: 小曲 | M38: =IF('１'!$W$12="","",IF(OR(数量ＤＢ!$BZ$7<>"",数量ＤＢ!$BZ$7<>0),数量ＤＢ!$CP37,"")) -> 46 | X38: =IF($R38="","",$M38*$R38) | AK38: 38上 | AN38: =IF($X51="","",$X51)
J39: 曲 | M39: =IF('１'!$W$12="","",IF(OR(数量ＤＢ!$BZ$7<>"",数量ＤＢ!$BZ$7<>0),数量ＤＢ!$CP38,"")) -> 79 | X39: =IF($R39="","",$M39*$R39) | AE39: 等外 | AH39: 3.00 | AK39: 14－16 | AN39: =IF($X14="","",$X14) | AS39: =IF(OR($AN39="",$AN40="",$AN41="",$AN42="",$AN43=""),"",SUM($AN39:$AR43)) | AX39: =IF(OR($AN39="",$AN40="",$AN41="",$AN42="",$AN43="",$AN44="",$AN45="",$AN46="",$AN47="",$AN48=""),"",SUM($AN39:$AR48))
J40: 等外 | M40: =IF('１'!$W$12="","",IF(OR(数量ＤＢ!$BZ$7<>"",数量ＤＢ!$BZ$7<>0),数量ＤＢ!$CP39,"")) -> 85 | X40: =IF($R40="","",$M40*$R40) | AK40: 18－22 | AN40: =IF($X18="","",$X18)
F41: 24～28 | J41: 直 | M41: =IF('１'!$W$12="","",IF(OR(数量ＤＢ!$BZ$7<>"",数量ＤＢ!$BZ$7<>0),数量ＤＢ!$CP40,"")) -> 10 | X41: =IF($R41="","",$M41*$R41) | AK41: 24－28 | AN41: =IF($X22="","",$X22)
J42: 小曲 | M42: =IF('１'!$W$12="","",IF(OR(数量ＤＢ!$BZ$7<>"",数量ＤＢ!$BZ$7<>0),数量ＤＢ!$CP41,"")) -> 15 | X42: =IF($R42="","",$M42*$R42) | AK42: 30－36 | AN42: =IF($X26="","",$X26)
J43: 曲 | M43: =IF('１'!$W$12="","",IF(OR(数量ＤＢ!$BZ$7<>"",数量ＤＢ!$BZ$7<>0),数量ＤＢ!$CP42,"")) -> 28 | X43: =IF($R43="","",$M43*$R43) | AK43: 38上 | AN43: =IF($X30="","",$X30)
...

Sheet ２【低質材】
B4: ='２(製販)'!B4 -> （ 申請者： ）
B5: 【 個 別 表（ 低質材Ｎ ）】
B6: （ 単位 ： 長級 ｍ 、径級 cm 、数量 ㎥ 、単価 円／㎥ 、価格 円 ）
B7: 長 級 | F7: 径 級 | J7: 品 等 | M7: 数 量 | R7: 購入希望単価 | X7: 購入希望価格 | AE7: 品 等 | AH7: 長 級 | AK7: 径 級 | AN7: 申請価格 (税抜) | AS7: 申請価格 小計(税抜) | AX7: 購入希望価格
R8: （税抜） | X8: （税抜） | AX8: 計（ 税 抜 ）
B9: 2.0 ・ 3.0 ・ 4.0 | F9: ８上 | J9: 低Ｎ | M9: =IF('１'!$W$12="","",IF(OR(数量ＤＢ!$DV$7<>"",数量ＤＢ!$DV$7<>0),数量ＤＢ!$ED$8,"")) -> 1900 | X9: =IF($R9="","",$M9*$R9) | AE9: 低Ｎ | AH9: 2.00 ・ 3.00 ・ 4.00 | AK9: ８上 | AN9: =IF($X9="","",$X9) | AS9: =IF($AN9="","",SUM($AN9)) | AX9: =IF($AN9="","",SUM($AN9))
AA20: 購入希望価格 | AX20: =IF($AX$9="","",SUM($AX$9))
AA21: 合計（税抜）

Sheet ２(立販)
AH4: 価 格 点
B5: ２ | D5: 購入希望価格明細
B6: （２）立木のシステム販売
B8: 【留意事項】
B9: ○物件ごとに作成してください。 ○入力表の太枠内部分に山元購入希望単価（税抜）を記入してください。 ○総括表の山元購入希望単価（税抜）で価格点を計算します。 ○実際の購入価格は、国の予定価格以上かつ山元購入希望価格以上となります。 ○数量は収穫調査に基づく概数ですので、確約するものではありません。
B16: 物件番号 | K16: 第 | O16: =IF('１'!$W$12="","",'１'!$W$12) -> ３ | Q16: 号物件
B19: 【 入 力 表 】 | J19: （ 単位：数量 ㎥ 、山元購入希望単価 円／㎥ 、金額 円 ）
B20: 樹 種 | K20: 数 量 | Q20: 山元購入 希望単価 （税抜） | W20: 金 額
W24: =IF(K24="","",K24*Q24)
W25: =IF(K25="","",K25*Q25)
W26: =IF(K26="","",K26*Q26)
W27: =IF(K27="","",K27*Q27)
W28: =IF(K28="","",K28*Q28)
B29: 計 | K29: =SUM(K24:P28) -> 0 | W29: =SUM(W24:AC28) -> 0
B32: 【 総 括 表 】 | J32: （ 単位：山元購入希望単価 円／㎥ ）
B33: 購入希望単価（税抜） | P33: =IF(ISERROR(ROUND(W29/K29,0)),"",ROUND(W29/K29,0))

Sheet ３【印刷用】
AH4: 取組評価点①
B5: ３ | D5: 効果的な取組内容
B6: （１）目的及び方針等
C7: ① | F7: 目的
D8: 国有林のシステム販売材の購入を希望する目的を記入してください。
C25: ② | F25: 中長期的な方針
D26: おおむね５年後を見通した自社の経営方針や設備投資の方針を記入してください。
C43: ③ | F43: 短期的な効果
D44: 国有林のシステム販売材の購入が実現した場合における、協定期間中の効果を記入してください。
AH63: 取組評価点①
B64: ３ | D64: 効果的な取組内容
B65: （２）需要創造への貢献等
C66: ① | F66: 中長期的な貢献等
D67: おおむね５年後を見通した需要創造への貢献、コスト削減等による国有林野事業への貢献等について記入してください。
C84: ② | F84: 短期的な貢献等
D85: 国有林のシステム販売材の購入が実現した場合における、協定期間中の需要創造への貢献、コスト削減等による国有林野事業への貢献等について記入してください。
C102: ③ | F102: 共同申請の内容
D103: 共同で申請する場合、共同で申請することとなった理由、申請者間での連携の内容等について記入してください。

Sheet ３
B4: ='２(製販)'!B4 -> （ 申請者： ） | AH4: 取組評価点①
B5: ３ | D5: 効果的な取組内容
B6: （１）目的及び方針等
C7: ① | F7: 目的
D8: 国有林のシステム販売材の購入を希望する目的を記入してください。
C25: ② | F25: 中長期的な方針
D26: おおむね５年後を見通した自社の経営方針や設備投資の方針を記入してください。
C43: ③ | F43: 短期的な効果
D44: 国有林のシステム販売材の購入が実現した場合における、協定期間中の効果を記入してください。
AH63: 取組評価点①
B64: ３ | D64: 効果的な取組内容
B65: （２）需要創造への貢献等
C66: ① | F66: 中長期的な貢献等
D67: おおむね５年後を見通した需要創造への貢献、コスト削減等による国有林野事業への貢献等について記入してください。
C84: ② | F84: 短期的な貢献等
D85: 国有林のシステム販売材の購入が実現した場合における、協定期間中の需要創造への貢献、コスト削減等による国有林野事業への貢献等について記入してください。
C102: ③ | F102: 共同申請の内容
D103: 共同で申請する場合、共同で申請することとなった理由、申請者間での連携の内容等について記入してください。

Sheet ４
B4: ='２(製販)'!B4 -> （ 申請者： ） | AH4: 取組評価点①
B5: ４ | D5: 具体的な販路（予定）※１
B8: 申請者 ※２ | I8: 販売先名称 | Z8: 加工品等の販売先 ※３
I9: 具体的用途
I10: 使用樹種 | Z10: 具体的用途
I11: 規格（径級/長級） | Z11: 使用樹種
I12: 数量㎥(丸太) | Z12: 数量㎥(製材品等)
I13: 非住宅又は輸出の 実績※４ | Q13: □ | R13: 非住宅 | U13: □ | V13: 輸出 | Z13: 非住宅又は輸出の 実績※４ | AH13: □ | AI13: 非住宅 | AL13: □ | AM13: 輸出
F15: ㎥ | I15: 共同申請、協定に よる販売先等の別 | Z15: 共同申請、協定に よる販売先等の別
Z18: 加工品等の販売先 ※３
Z20: 具体的用途
Z21: 使用樹種
Z22: 数量㎥(製材品等)
Z23: 非住宅又は輸出の 実績※４ | AH23: □ | AI23: 非住宅 | AL23: □ | AM23: 輸出
Z25: 共同申請、協定に よる販売先等の別
I30: 販売先名称 | Z30: 加工品等の販売先 ※３
I31: 具体的用途
I32: 使用樹種 | Z32: 具体的用途
I33: 規格（径級/長級） | Z33: 使用樹種
I34: 数量㎥(丸太) | Z34: 数量㎥(製材品等)
I35: 非住宅又は輸出の 実績※４ | Q35: □ | R35: 非住宅 | U35: □ | V35: 輸出 | Z35: 非住宅又は輸出の 実績※４ | AH35: □ | AI35: 非住宅 | AL35: □ | AM35: 輸出
I37: 共同申請、協定に よる販売先等の別 | Z37: 共同申請、協定に よる販売先等の別
Z40: 加工品等の販売先 ※３
Z42: 具体的用途
Z43: 使用樹種
Z44: 数量㎥(製材品等)
Z45: 非住宅又は輸出の 実績※４ | AH45: □ | AI45: 非住宅 | AL45: □ | AM45: 輸出
Z47: 共同申請、協定に よる販売先等の別
B52: 【留意事項】
B53: ※１ 国有林材の安定供給システム申請書の内容と整合を図ってください。 ※２ 共同申請の場合は、申請者全員を対象にこの表を作成してください。その際、販 売先が多い場合は適宜販売先を追加してください。 ※３ 販売先が多数の場合は、販売先の業態ごと（例：製材工場、ハウスメーカー等） にまとめて記載いただいても構いません。 ※４ 非住宅用又は輸出用として製造又は販売する場合、丸太を供給する場合はチェッ クを入れてください。

Sheet ５
B4: ='２(製販)'!B4 -> （ 申請者： ） | AI4: 取組評価点②
B5: ５ | D5: 施設整備等の新規性及び政策との整合
B7: 【留意事項】
B8: ○申請時における取組状況について、新規性に関する事項の有無にかかわらず記入して ください｡ ○複数の事業者が共同で申請する場合は該当する事業者すべてについて記入してくださ い｡ ○高性能林業機械の導入は、立木のシステム販売においてのみ評価の対象となります。 ○※１及び※２で「その他」を選択した場合は備考欄にその内容を記入してください。 ○都道府県や市町村等地方公共団体の策定した計画等に申請者の施設の新設、拡充、導 入等が位置づけられている場合はその計画等の名称を記入してください（※３）。 ○需要拡大に係る国策との整合に関する事項に該当する取組を行っている場合は、いつ からどのような取組を行っているのか、今後どのような取組を行う予定なのか具体的に 記入してください｡
B21: 申 請 者 名
B23: 新規性に関 する事項 | H23: 施設の種類
H26: 新設・拡充・導入別 ※１
H29: 整備年度
H32: 事業費(千円)
H35: 補助金額(千円)
B38: 地域林政と の整合に関 する事項 | H38: 補助金の種類 ※２
H41: 補助金名
H44: 計画等への位置づけ ※３
B47: 需要拡大に 係る国策と の整合に関 する事項 | H47: 非住宅の需要拡大に関する取組
H50: 製品輸出に関する取組
B53: 備 考

Sheet ６
B4: ='２(製販)'!B4 -> （ 申請者： ） | AH4: 取組評価点③
B5: ６ | D5: 原木や製品の生産・流通に係るコストの縮減
B7: 【留意事項】
B8: ○前年度の実績を記入してください。
C10: ① | F10: 製材工場、２×４工場、合単板工場、ＬＶＬ工場、集成材工場
B12: 【留意事項】
B13: ○工場の種類欄には、製材、２×４、合単板、ＬＶＬ、集成材の別に記入してください｡ ○集成材工場でラミナを購入している場合（原木仕入数量が記入できない場合）は、ラ ミナ購入量に製材歩留まり50％で割り戻した数量を原木仕入数量として記入してくださ い｡
AK17: 単位：㎥
B18: 申 請 者 名
B20: 工場の種類
B22: 製品出荷数量 | J22: ①
B24: 製品仕入数量 | J24: ②
B26: 原木仕入数量 | J26: ③
B28: 歩留 | J28: ④=(①-②)/③
B30: 備 考
C33: ② | F33: チップ工場
B35: 【留意事項】
B36: ○生トンで管理している事業者は、全国木材チップ工業連合会の「木材チップの換算係 数」を用いて絶乾トン(BDｔ)に変換してください。
AG38: 単位：BDｔ/月
B39: 申 請 者 名
B41: 平均月産チップ生産量
B43: 備 考
C46: ③ | F46: オガ粉工場
AG47: 単位：㎥／年
B48: 申 請 者 名
B50: 年間生産量
B52: 備 考
C55: ④ | F55: 流通事業者
B57: 【留意事項】
B58: ○その他がある場合は、椪積料と合算して評価します。
B60: 申 請 者 名
B62: 市場手数料 | J62: ％
B64: 椪 積 料 | J64: 円／㎥
B66: そ の 他 | J66: 円／㎥
B68: 備 考
AH74: 取組評価点③
B75: ６ | D75: 原木や製品の生産・流通に係るコストの縮減
B77: 【留意事項】
B78: ○前年度の実績を記入してください。
C80: ⑤ | F80: バイオマス発電事業者
...

Sheet ７・８・９
B4: ='２(製販)'!B4 -> （ 申請者： ） | AH4: 取組評価点④
B5: ７ | D5: 国有林の政策への貢献
B7: 【留意事項】
B8: ○公売で購入した立木販売物件の前年度実績を記入してください。 ○立木のシステム販売物件は対象外です。
B11: 申 請 者 名
B13: 国有林の立木販売物件購入件数（公売）
K15: うち分収育林購入件数
B18: 備 考
AH23: 取組評価点⑤
B24: ８ | D24: 地域の民有林管理への貢献
B26: 申 請 者 名
B28: 森林経営管理法に基づき市町村から民有林管理を再委託 | K28: 再委託件数 （件）
K31: 再委託面積 （ha）
B34: 森林経営計画を策定して民有林を管理経営 | K34: 計画策定件数（件）
K37: 管理面積 （ha）
B40: 森林経営計画策定者から民有林の森林施業を受託 | K40: 受託面積 （ha）
B46: 備 考
AH51: 取組評価点⑥
B52: ９ | D52: 安全対策の取組
B54: 【留意事項】
B55: ○重大災害とは、死亡災害、労働者災害補償保険法施行規則別表第１の障害の等級表の 等級区分中、第１級から第３級までに該当すると思われる災害、同一災害で３名以上の 被災者を出した災害、第三者を死傷させた事故、その他特に異例な事故又は災害のこと を言います。
B60: 申 請 者 名
B62: ４日以上の労働災害の件数
B64: 重大災害の有無
B66: 備 考

Sheet 10・11
B4: ='２(製販)'!B4 -> （ 申請者： ） | AH4: 取組評価点⑦
B5: 10 | D5: クリーンウッド法における登録木材関連業者
B6: （１）申請者が素材生産事業者以外の場合
B8: 【留意事項】
B9: ○申請時における登録木材関連業者について記入してください。 ○申請者のうち、登録木材関連事業者に該当する事業者について記入してください。 ○種別には、第一種木材関連事業者、第二種木材関連事業者の別を記入してください。
B13: 申 請 者 名
B15: 登録番号
B18: 種別
B21: 備 考
B24: （２）申請者が素材生産事業者の場合
B26: 【留意事項】
B27: ○申請時における登録木材関連業者（協定取引者）をすべて記入してください。 ○種別には、第一種木材関連事業者、第二種木材関連事業者の別を記入してください。
B30: 協定取引者名
B32: 登録番号
... B38: 備 考
AH43: 取組評価点⑧
B44: 11 | D44: ワークライフバランス等の推進
B46: 【留意事項】
B47: ○申請時において該当する部分に○を記入してください（複数記入可能）。
B49: 申 請 者 名
B51: えるぼし認定企業
B53: プラチナくるみん認定企業
B55: くるみん認定企業
B57: ユースエール認定企業
B59: くるみん認定の認定基準７、認定基準８及び認定基準９の基準を満たしている
B64: 過去３年間に若手(35歳未満)の新規雇用があり申請の日まで雇用が継続している
B69: 備 考

Sheet 12・13
B4: ='２(製販)'!B4 -> （ 申請者： ） | AH4: 取組評価点⑨
B5: 12 | D5: 働き方改革
B7: 【留意事項】
B8: ○申請時において該当する部分に○を記入してください（複数記入可能）。
B10: 申 請 者 名
B12: 労働生産性の向上のため、効率的な作業システム、工程管理の工夫等を行うとともに、生産性向上の目標を持って取り組んでいる
B17: 現場従事者の技術向上に向け、技術指導、研修会・講習会の開催・参加、資格取得への支援等を実施している
B22: 作業の平準化、天候に応じた就業調整等により、現場作業員の休暇日数の確保と休養、健康管理に組織的に取り組んでいる
B27: 備 考
AH31: 取組評価点⑩
B32: 13 | D32: 森林管理局長の評価
B34: 【留意事項】
B35: ○申請時において該当する部分に○を記入してください（複数記入可能）。
B37: （１）素材（丸太）のシステム販売
B39: 協定数量を超過した場合でも、引渡場所に輸送される素材のすべてを購入することを確約できる
B43: 備 考
B46: 素材の検知に係る実行体制（人員体制・機械等の設備体制・実績の有無）を確立している | Q46: 技術者が４名以上である | Y46: 機械等の設備がある | AG46: 同種業務の実績が有る
B51: 備 考
B54: （２）立木のシステム販売
B56: 公告日の属する年度より過去５年間に国有林の分収造林契約実績がある
B59: 公告日の属する年度より過去３年間に国有林の林地残材の売買契約実績がある
B63: 公告日の属する年度より過去３年間に国の機関等が実施した森林・林業・木材産業に係る研修等に講師を派遣した実績がある
B69: 備 考
B72: 共同申込みによらず、直接、素材生産業者等により主伐後の造林を行うことができる （造林の実施を含む場合のみ）

Sheet 添付提出票
C5: 国有林材の安定供給システムに係る企画提案書
C6: 添 付 書 類 提 出 票
B8: ='２(製販)'!B4 -> （ 申請者： ）
B9: 添付す | E9: 添 付 書 類 の 内 容 | T9: 留 意 事 項 等 | AI9: 該当する 評価項目
B11: る書類
E13: 機械の新設、拡充、導入等を証明する書類の写し | T13: 書類とは納品書、請求書、領収証等。高性能林業機械は、立木システム販売のみ評価対象。 | AI13: 取組評価点②
E16: 新設・拡充・導入した機械に関する自治体の計画書又は補助金の請求書等の写し
E19: 前年度の国有林の立木販売売買契約書の写し | T19: 公売物件に限る。 | AI19: 取組評価点④
E21: 森林経営管理法に基づく民有林管理の再委託を証明する書類の写し | AI21: 取組評価点⑤
E23: 申請者が策定した森林経営計画の写し
E25: 森林経営計画策定者から民有林の森林施業を受託した場合における発注者が策定した森林経営計画の写し及び当該森林の森林施業を受託したことを証明できる書類の写し
E30: 登録木材関連事業者の登録証の写し | T30: 素材生産事業者が申請する場合は、協定取引者の登録証の写し。 | AI30: 取組評価点⑦
E32: えるぼし認定企業、プラチナくるみん認定企業、くるみん認定企業、ユースエール認定企業の認定証の写し | AI32: 取組評価点⑧
E36: くるみん認定の認定基準７、認定基準８及び認定基準９の基準を満たしていることが分かる就業規則等の写し
E40: 過去３年間に若手（35歳未満）の新規雇用があり申請の日まで雇用が継続していることを証明できる書類の写し
E44: 【製品システム販売】 それぞれの項目ごとに評価内容を確認できる書類 | T44: ・全量買受に係る確約書 ・素材の検知に係る実行体制が確認できる書類（申請書に添付する書類で可とする） | AI44: 取組評価点⑩
E48: 【立木システム販売】 それぞれの項目ごとに実績又は実施したことを証明できる書類の写し | T48: ・国有林の分収造林契約書の写し ・国有林の林地残材の購入を証する書類（売買契約書等）の写し ・研修の講師派遣依頼書等の写し
E52: 植栽の意思表明書 | T52: 立木システム販売（販売箇所に係る主伐後の造林の実施を協定に含むもの）の際に添付すること。 | AI52: 必 須 事 項
B55: ※添付する書類欄に○を記入してください。
B56: ※添付書類は協定予定者を選定する際の審査に使用します。審査以外に使用することはあ りません。
B58: ※企画提案の添付書類については、買受希望物件ごとに作成してください。 ただし、複数の買受希望物件における企画提案の内容がすべて同一である場合は、添付 書類は１部の提出で差し支えありません。

Sheet 意思表明書
C4: 様 式 第 ２ 号 | I4: －２
AF6: 年 | AI6: 月 | AL6: 日
D9: 四国森林管理局長 | N9: 殿
O11: 所在地
O13: 商号又は名称
O15: 代表者役職氏名
C19: 植栽の意思表明書
C23: 本国有林材の安定供給システムに係る企画提案書に基づく売買契約箇所について、協 定書案及び公告に示された造林の条件に従い造林を実施する旨を表明します。
C28: （注）協定申請者のうち、造林事業者が記載すること。複数の造林事業者が実施する予 定の場合は、それぞれ、住所及び氏名又は名称を記載すること。
AP42: ■製 材
AP43: ■２×４
AP44: ■合単板
AP45: ■ＬＶＬ
AP46: ■集成材
AP47: ■チップ
AP48: ■オガ粉
AP49: ■流 通
AP50: ■発 電
AP51: ■住宅メーカー
AP52: ■製 紙
AP53: ■素材生産

Sheet 確約書
M5: 林産物の買受に係る確約書
AB8: 令和 | AF8: 年 | AI8: 月 | AL8: 日
D11: 四国森林管理局長 | N11: 殿
O13: 所在地
O15: 商号又は名称
O17: 代表者役職氏名
D21: 令和 | H21: 年 | K21: 月 | N21: 日 | O21: 付けの公告による国有林材の安定供給システムによる販売
C23: の企画提案（取組評価点⑩）について、協定数量を超過した場合でも、引渡場所に輸送される素材のすべてを購入することを確約します。

Sheet 結果報告書(鑑)
C4: 様式第５号
C5: 国有林材の安定供給システムに係る結果報告書
AF8: 年 | AI8: 月 | AL8: 日
D11: 四国森林管理局長 | N11: 殿
O13: 所在地
O15: 商号又は名称
O17: 代表者役職氏名
C21: 国有林材の安定供給システム実施要領第14条第１項の規定により、別添のとおり協定 に基づく企画提案内容についての取組状況を報告します。 本報告書の提出にあたっては、虚偽の事実がないことを確約するとともに、本報告書 の内容を公表することがあることについて了承します。 なお、本報告書の内容に関する質問等への対応は以下の作成担当者が行います。
G61: （作成担当者） | O61: 担当者所属部署
O63: 担当者役職氏名
O65: 担当者電話番号
O67: 担当者Ｅ－Mail

Sheet 結果報告書1・2
C4: 様式第６号
AF7: 年 | AI7: 月 | AL7: 日
G10: 年 度 | N10: =IF($X$10="","","令 和") | Z10: 年 度
G12: 物件番号 | N12: 第 | Y12: 号 物 件
G14: 申請者
C21: 国有林材の安定供給システムに係る結果報告書
B25: １ | D25: 実施結果
B27: 【留意事項】
B28: ○企画提案書の内容を振り返り、得られた効果等について具体的に記入してください。 ○次回の申請で減点の有無を判断する「検証」は、１（１）②「短期的な効果」及び １（２）②「短期的な貢献等」で行います。
B32: （１）効果等
C33: ① | F33: 中長期的な方針
B34: 企画提案書※１ | Q34: 結果
Q35: 協定期間中に実施できた事項
Q40: 継続して取り組む事項の今後の方針
B45: ※１ 企画提案書の内容を転記してください。
C47: ② | F47: 短期的な効果
B48: 企画提案書※１ | Q48: 結果
Q49: 協定期間中に実施できた事項
Q54: 協定期間中に実施できなかった事項及びその理由
B59: 森林管理局の確認及び評価※２
B63: ※１ 企画提案書の内容を転記してください。 ※２ 森林管理局の確認及び評価は森林管理局で記入します。
B69: １ | D69: 実施結果
B71: 【留意事項】
B72: ○企画提案書の内容を振り返り、得られた効果等について具体的に記入してください。 ○次回の申請で減点の有無を判断する「検証」は、１（１）②「短期的な効果」及び １（２）②「短期的な貢献等」で行います。
B76: （２）需要創造への貢献等
C77: ① | F77: 中長期的な貢献等
B78: 企画提案書※１ | Q78: 結果
Q79: 協定期間中に実施できた事項
Q84: 継続して取り組む事項の今後の方針
B89: ※１ 企画提案書の内容を転記してください。
C91: ② | F91: 短期的な貢献等
B92: 企画提案書※１ | Q92: 結果
Q93: 協定期間中に実施できた事項
Q98: 協定期間中に実施できなかった事項及びその理由
B103: 森林管理局の確認及び評価※２
B107: ※１ 企画提案書の内容を転記してください。 ※２ 森林管理局の確認及び評価は森林管理局で記入します。
B111: ２ | D111: 国有林のシステム販売に対する意見、要望等

Sheet 結果報告書3
B3: ３ | D3: 具体的な販路（実施結果）
B5: 申請者 ※２ | N5: 【企画提案書】 | AD5: 【結果報告書】 | AV5: 【企画提案書】 | BL5: 【結果報告書】
N6: 販売先名称 | AD6: 販売先名称 | AV6: 加工品等の販売先 ※３ | BL6: 加工品等の販売先 ※３
N7: 具体的用途 | AD7: 具体的用途
N8: 使用樹種 | AD8: 使用樹種 | AV8: 具体的用途 | BL8: 具体的用途
N9: 規格（径級/長級） | AD9: 規格（径級/長級） | AV9: 使用樹種 | BL9: 使用樹種
B10: 企画提案 | K10: ㎥ | N10: 数量㎥(丸太) | AD10: 数量㎥(丸太) | AV10: 数量㎥(製材品等) | BL10: 数量㎥(製材品等)
N11: 非住宅又は輸出の 実績※４ | W11: □ | X11: 非住宅 | AA11: □ | AB11: 輸出 | AD11: 非住宅又は輸出の 実績※４ | AM11: □ | AN11: 非住宅 | AQ11: □ | AR11: 輸出 | AV11: 非住宅又は輸出の 実績※４ | BE11: □ | BF11: 非住宅 | BI11: □ | BJ11: 輸出 | BL11: 非住宅又は輸出の 実績※４ | BU11: □ | BV11: 非住宅 | BY11: □ | BZ11: 輸出
B12: 実行結果 | K12: ㎥
N13: 共同申請、協定に よる販売先等の別 | AD13: 共同申請、協定に よる販売先等の別 | AV13: 共同申請、協定に よる販売先等の別 | BL13: 共同申請、協定に よる販売先等の別
AV16: 【企画提案書】 | BL16: 【結果報告書】
AV17: 加工品等の販売先 ※３ | BL17: 加工品等の販売先 ※３
AV19: 具体的用途 | BL19: 具体的用途
AV20: 使用樹種 | BL20: 使用樹種
AV21: 数量㎥(製材品等) | BL21: 数量㎥(製材品等)
AV22: 非住宅又は輸出の 実績※４ | BE22: □ | BF22: 非住宅 | BI22: □ | BJ22: 輸出 | BL22: 非住宅又は輸出の 実績※４ | BU22: □ | BV22: 非住宅 | BY22: □ | BZ22: 輸出
AV24: 共同申請、協定に よる販売先等の別 | BL24: 共同申請、協定に よる販売先等の別
N27: 【企画提案書】 | AD27: 【結果報告書】 | AV27: 【企画提案書】 | BL27: 【結果報告書】
N28: 販売先名称 | AD28: 販売先名称 | AV28: 加工品等の販売先 ※３ | BL28: 加工品等の販売先 ※３
N29: 具体的用途 | AD29: 具体的用途
N30: 使用樹種 | AD30: 使用樹種 | AV30: 具体的用途 | BL30: 具体的用途
N31: 規格（径級/長級） | AD31: 規格（径級/長級） | AV31: 使用樹種 | BL31: 使用樹種
N32: 数量㎥(丸太) | AD32: 数量㎥(丸太) | AV32: 数量㎥(製材品等) | BL32: 数量㎥(製材品等)
N33: 非住宅又は輸出の 実績※４ | W33: □ | X33: 非住宅 | AA33: □ | AB33: 輸出 | AD33: 非住宅又は輸出の 実績※４ | AM33: □ | AN33: 非住宅 | AQ33: □ | AR33: 輸出 | AV33: 非住宅又は輸出の 実績※４ | BE33: □ | BF33: 非住宅 | BI33: □ | BJ33: 輸出 | BL33: 非住宅又は輸出の 実績※４ | BU33: □ | BV33: 非住宅 | BY33: □ | BZ33: 輸出
N35: 共同申請、協定に よる販売先等の別 | AD35: 共同申請、協定に よる販売先等の別 | AV35: 共同申請、協定に よる販売先等の別 | BL35: 共同申請、協定に よる販売先等の別
AV38: 【企画提案書】 | BL38: 【結果報告書】
AV39: 加工品等の販売先 ※３ | BL39: 加工品等の販売先 ※３
AV41: 具体的用途 | BL41: 具体的用途
AV42: 使用樹種 | BL42: 使用樹種
AV43: 数量㎥(製材品等) | BL43: 数量㎥(製材品等)
AV44: 非住宅又は輸出の 実績※４ | BE44: □ | BF44: 非住宅 | BI44: □ | BJ44: 輸出 | BL44: 非住宅又は輸出の 実績※４ | BU44: □ | BV44: 非住宅 | BY44: □ | BZ44: 輸出
AV46: 共同申請、協定に よる販売先等の別 | BL46: 共同申請、協定に よる販売先等の別
J49: 【留意事項】
J50: ※１ 共同申請の場合は、申請者全員を対象にこの表を作成してください。その際、販売先が多い場合は適宜販売先を追加してください。 ※２ 販売先が多数の場合は、販売先の業態ごと（例：製材工場、ハウスメーカー等）にまとめて記載いただいても構いません。 ※３ 非住宅用又は輸出用として製造又は販売する場合、丸太を供給する場合はチェックを入れてください。

Sheet 整理ＤＢ
B3: 物 件 番 号 | C3: 樹 種 | F3: 数量 | I3: 引渡場所
C4: １ | D4: ２ | E4: ３ | F4: １ | G4: ２ | H4: ３ | I4: １ | K4: ２ | M4: ３
B5: １ | C5: ス ギ | D5: ヒ ノ キ | E5: 低質材Ｎ | F5: 2300 | G5: 1700 | H5: 1500 | I5: 徳島県三好市 | J5: に所在する協定希望者が希望する場所
B6: ２ | C6: ス ギ | D6: ヒ ノ キ | E6: 低質材Ｎ | F6: 2300 | G6: 3500 | H6: 3800 | I6: 愛媛県宇和島市 | J6: に所在する協定希望者が希望する場所
B7: ３ | C7: ス ギ | D7: ヒ ノ キ | E7: 低質材Ｎ | F7: 1700 | G7: 1100 | H7: 1900 | I7: 愛媛県北宇和郡鬼北町 | J7: に所在する協定希望者が希望する場所
B8: ４ | C8: ス ギ | D8: ヒ ノ キ | E8: 低質材Ｎ | F8: 1300 | G8: 1200 | H8: 700 | I8: 愛媛県上浮穴郡久万高原町 | J8: に所在する協定希望者が希望する場所
B9: ５ | C9: ス ギ | D9: ヒ ノ キ | E9: 低質材Ｎ | F9: 600 | G9: 1100 | H9: 1800 | I9: 高知県宿毛市 | J9: に所在する協定希望者が希望する場所
B10: ６ | C10: ス ギ | D10: ヒ ノ キ | E10: 低質材Ｎ | F10: 600 | G10: 1200 | H10: 2000 | I10: 高知県四万十市 | J10: に所在する協定希望者が希望する場所
B11: ７ | C11: ス ギ | D11: ヒ ノ キ | E11: 低質材Ｎ | F11: 3600 | G11: 3500 | H11: 4400 | I11: 高知県高岡郡四万十町 | J11: に所在する協定希望者が希望する場所
B12: ８ | C12: ス ギ | D12: ヒ ノ キ | E12: 低質材Ｎ | F12: 2200 | G12: 2000 | H12: 3200 | I12: 高知県高岡郡津野町 | J12: に所在する協定希望者が希望する場所
B13: ９ | C13: ス ギ | D13: ヒ ノ キ | E13: 低質材Ｎ | F13: 100 | G13: 100 | H13: 1100 | I13: 高知県長岡郡大豊町 | J13: に所在する協定希望者が希望する場所
B14: 10 | C14: ス ギ | D14: ヒ ノ キ | E14: 低質材Ｎ | F14: 1200 | G14: 100 | H14: 600 | I14: 高知県香美市 | J14: に所在する協定希望者が希望する場所
B15: 11
B16: 12
B17: 13
B18: 14
B19: 15
B20: 16
B21: 17
B22: 18
B23: 19
B24: 20
B25: 21
B26: 22
... B54: 50

Sheet 数量ＤＢ
C3: 普通
C4: 製品システム販売
C5: スギ | Z5: =IF('１'!$W$12="","",IF(VLOOKUP('１'!$W$12,整理ＤＢ!$B$5:$N$54,2,FALSE)="ス ギ",VLOOKUP('１'!$W$12,整理ＤＢ!$B$5:$N$54,5,FALSE),"")) -> 1700 | AD5: =IF('１'!$W$12="","",IF(VLOOKUP('１'!$W$12,整理ＤＢ!$B$5:$N$54,3,FALSE)="ス ギ",VLOOKUP('１'!$W$12,整理ＤＢ!$B$5:$N$54,6,FALSE),"")) | AT5: =IF('１'!$W$12="","",IF(VLOOKUP('１'!$W$12,整理ＤＢ!$B$5:$N$54,4,FALSE)="ス ギ",VLOOKUP('１'!$W$12,整理ＤＢ!$B$5:$N$54,7,FALSE),"")) | AY5: ヒノキ | BV5: =IF('１'!$W$12="","",IF(VLOOKUP('１'!$W$12,整理ＤＢ!$B$5:$N$54,2,FALSE)="ヒ ノ キ",VLOOKUP('１'!$W$12,整理ＤＢ!$B$5:$N$54,5,FALSE),"")) | BZ5: =IF('１'!$W$12="","",IF(VLOOKUP('１'!$W$12,整理ＤＢ!$B$5:$N$54,3,FALSE)="ヒ ノ キ",VLOOKUP('１'!$W$12,整理ＤＢ!$B$5:$N$54,6,FALSE),"")) -> 1100 | CP5: =IF('１'!$W$12="","",IF(VLOOKUP('１'!$W$12,整理ＤＢ!$B$5:$N$54,4,FALSE)="ヒ ノ キ",VLOOKUP('１'!$W$12,整理ＤＢ!$B$5:$N$54,7,FALSE),"")) | CU5: 低質材Ｎ | DR5: =IF('１'!$W$12="","",IF(VLOOKUP('１'!$W$12,整理ＤＢ!$B$5:$N$54,2,FALSE)="低質材Ｎ",VLOOKUP('１'!$W$12,整理ＤＢ!$B$5:$N$54,5,FALSE),"")) | DV5: =IF('１'!$W$12="","",IF(VLOOKUP('１'!$W$12,整理ＤＢ!$B$5:$N$54,3,FALSE)="低質材Ｎ",VLOOKUP('１'!$W$12,整理ＤＢ!$B$5:$N$54,6,FALSE),"")) | ED5: =IF('１'!$W$12="","",IF(VLOOKUP('１'!$W$12,整理ＤＢ!$B$5:$N$54,4,FALSE)="低質材Ｎ",VLOOKUP('１'!$W$12,整理ＤＢ!$B$5:$N$54,7,FALSE),"")) -> 1900
C6: 長 級 | F6: 長 級 | I6: 径 級 | L6: 経 級 | Q6: 品等 | T6: 数 量 実 績 | Z6: 比 率 | AD6: 数 量 比 率 | AY6: 長 級 | BB6: 長 級 | BE6: 径 級 | BH6: 経 級 | BM6: 品等 | BP6: 数 量 実 績 | BV6: 比 率 | BZ6: 数 量 比 率 | CU6: 長 級 | CX6: 長 級 | DA6: 径 級 | DD6: 経 級 | DI6: 品等 | DL6: 数 量 実 績 | DR6: 比 率 | DV6: 数 量 比 率
AD7: =IF(AND(Z5="",AD5="",AT5=""),"",SUM(Z5:AW5)) -> 1700 | BZ7: =IF(AND(BV5="",BZ5="",CP5=""),"",SUM(BV5:CS5)) -> 1100 | DV7: =IF(AND(DR5="",DV5="",ED5=""),"",SUM(DR5:EG5)) -> 1900
C8: 3.0 | F8: 2.8 | I8: ８～12 | L8: 2 | N8: - | O8: 12 | Q8: 込 | T8: 5237.723 | Z8: 0.0208108 | AD8: =IF($AD$7="","",ROUND($AD$7*$Z8,0)) -> 35 | AH8: =IF($AD$7="","",IF($AD8=0,1,$AD8)) -> 35 | AL8: =IF($AD$7="","",IF($AD8=0,1,IF($AD$7=$AH$52,ROUND($AD$7/$AH$52*$AH8,0),IF(MAX($AD$8:$AG$51)<>IF($AD8=0,1,$AD8),ROUND($AD$7/$AH$52*$AH8,0),ROUND($AD$7/$AH$52*$AH8,0))))) -> 35 | AP8: =IF($AD$7="","",RANK($Z8,$Z$8:$AC$51)) -> 15 | AT8: =IF($AD$7="","",IF(AND(($AD$7-$AL$52)<0,$AP8<=$AP$52),$AL8-1,IF(AND(($AD$7-$AL$52)>=0,$AP8<=$AP$52),$AL8+1,$AL8))) -> 35 | AY8: 3.0 | BB8: 2.8 | BE8: ８～12 | BH8: 2 | BJ8: - | BK8: 12 | BM8: 込 | BP8: 8135.081 | BV8: 0.0664734 | BZ8: =IF($BZ$7="","",ROUND($BZ$7*$BV8,0)) -> 73 | CD8: =IF($BZ$7="","",IF($BZ8=0,1,$BZ8)) -> 73 | CH8: =IF($BZ$7="","",IF($BZ8=0,1,IF($BZ$7=$CD$52,ROUND($BZ$7/$CD$52*$CD8,0),IF(MAX($BZ$8:$CC$51)<>IF($BZ8=0,1,$BZ8),ROUND($BZ$7/$CD$52*$CD8,0),ROUND($BZ$7/$CD$52*$CD8,0))))) -> 72 | CL8: =IF($BZ$7="","",RANK($BV8,$BV$8:$BY$51)) -> 4 | CP8: =IF($BZ$7="","",IF(AND(($BZ$7-$CH$52)<0,$CL8<=$CL$52),$CH8-1,IF(AND(($BZ$7-$CH$52)>=0,$CL8<=$CL$52),$CH8+1,$CH8))) -> 72 | CU8: 全 | CX8: 全 | DA8: 全 | DD8: 全 | DF8: - | DG8: 全 | DI8: 低Ｎ | DL8: 248403.81 | DR8: 1 | DV8: =IF($DV$7="","",ROUND($DV$7*$DR8,0)) -> 1900 | ED8: =IF($DV$7="","",ROUND($DV$7*$DR8,0)) -> 1900
F9: 2.8 | I9: 13 | L9: 13 | N9: - | O9: 13 | Q9: 込 | T9: 3963.618 | Z9: 0.0157485 | AD9: =IF($AD$7="","",ROUND($AD$7*$Z9,0)) -> 27 | AH9: =IF($AD$7="","",IF($AD9=0,1,$AD9)) -> 27 | AL9: =IF($AD$7="","",IF($AD9=0,1,IF($AD$7=$AH$52,ROUND($AD$7/$AH$52*$AH9,0),IF(MAX($AD$8:$AG$51)<>IF($AD9=0,1,$AD9),ROUND($AD$7/$AH$52*$AH9,0),ROUND($AD$7/$AH$52*$AH9,0))))) -> 27 | AP9: =IF($AD$7="","",RANK($Z9,$Z$8:$AC$51)) -> 19 | AT9: =IF($AD$7="","",IF(AND(($AD$7-$AL$52)<0,$AP9<=$AP$52),$AL9-1,IF(AND(($AD$7-$AL$52)>=0,$AP9<=$AP$52),$AL9+1,$AL9))) -> 27 | BB9: 2.8 | BE9: 13 | BH9: 13 | BJ9: - | BK9: 13 | BM9: 込 | BP9: 4537.266 | BV9: 0.0370749 | BZ9: =IF($BZ$7="","",ROUND($BZ$7*$BV9,0)) -> 41 | CD9: =IF($BZ$7="","",IF($BZ9=0,1,$BZ9)) -> 41 | CH9: =IF($BZ$7="","",IF($BZ9=0,1,IF($BZ$7=$CD$52,ROUND($BZ$7/$CD$52*$CD9,0),IF(MAX($BZ$8:$CC$51)<>IF($BZ9=0,1,$BZ9),ROUND($BZ$7/$CD$52*$CD9,0),ROUND($BZ$7/$CD$52*$CD9,0))))) -> 41 | CL9: =IF($BZ$7="","",RANK($BV9,$BV$8:$BY$51)) -> 12 | CP9: =IF($BZ$7="","",IF(AND(($BZ$7-$CH$52)<0,$CL9<=$CL$52),$CH9-1,IF(AND(($BZ$7-$CH$52)>=0,$CL9<=$CL$52),$CH9+1,$CH9))) -> 41 | CX9: 全 | DD9: 全 | DF9: - | DG9: 全
F10: 2.8 | I10: 14～16 | L10: 14 | N10: - | O10: 16 | Q10: 直 | T10: 716.799 | Z10: 0.002848 | AD10: =IF($AD$7="","",ROUND($AD$7*$Z10,0)) -> 5 | AH10: =IF($AD$7="","",IF($AD10=0,1,$AD10)) -> 5 | AL10: =IF($AD$7="","",IF($AD10=0,1,IF($AD$7=$AH$52,ROUND($AD$7/$AH$52*$AH10,0),IF(MAX($AD$8:$AG$51)<>IF($AD10=0,1,$AD10),ROUND($AD$7/$AH$52*$AH10,0),ROUND($AD$7/$AH$52*$AH10,0))))) -> 5 | AP10: =IF($AD$7="","",RANK($Z10,$Z$8:$AC$51)) -> 35 | AT10: =IF($AD$7="","",IF(AND(($AD$7-$AL$52)<0,$AP10<=$AP$52),$AL10-1,IF(AND(($AD$7-$AL$52)>=0,$AP10<=$AP$52),$AL10+1,$AL10))) -> 5 | BB10: 2.8 | BE10: 14～16 | BH10: 14 | BJ10: - | BK10: 16 | BM10: 直 | BP10: 2639.275 | BV10: 0.0215661 | BZ10: =IF($BZ$7="","",ROUND($BZ$7*$BV10,0)) -> 24 | CD10: =IF($BZ$7="","",IF($BZ10=0,1,$BZ10)) -> 24 | CH10: =IF($BZ$7="","",IF($BZ10=0,1,IF($BZ$7=$CD$52,ROUND($BZ$7/$CD$52*$CD10,0),IF(MAX($BZ$8:$CC$51)<>IF($BZ10=0,1,$BZ10),ROUND($BZ$7/$CD$52*$CD10,0),ROUND($BZ$7/$CD$52*$CD10,0))))) -> 24 | CL10: =IF($BZ$7="","",RANK($BV10,$BV$8:$BY$51)) -> 20 | CP10: =IF($BZ$7="","",IF(AND(($BZ$7-$CH$52)<0,$CL10<=$CL$52),$CH10-1,IF(AND(($BZ$7-$CH$52)>=0,$CL10<=$CL$52),$CH10+1,$CH10))) -> 24 | CX10: 全 | DD10: 全 | DF10: - | DG10: 全
F11: 2.8 | L11: 14 | N11: - | O11: 16 | Q11: 小曲 | T11: 2713.533 | Z11: 0.0107816 | AD11: =IF($AD$7="","",ROUND($AD$7*$Z11,0)) -> 18 | AH11: =IF($AD$7="","",IF($AD11=0,1,$AD11)) -> 18 | AL11: =IF($AD$7="","",IF($AD11=0,1,IF($AD$7=$AH$52,ROUND($AD$7/$AH$52*$AH11,0),IF(MAX($AD$8:$AG$51)<>IF($AD11=0,1,$AD11),ROUND($AD$7/$AH$52*$AH11,0),ROUND($AD$7/$AH$52*$AH11,0))))) -> 18 | AP11: =IF($AD$7="","",RANK($Z11,$Z$8:$AC$51)) -> 24 | AT11: =IF($AD$7="","",IF(AND(($AD$7-$AL$52)<0,$AP11<=$AP$52),$AL11-1,IF(AND(($AD$7-$AL$52)>=0,$AP11<=$AP$52),$AL11+1,$AL11))) -> 18 | BB11: 2.8 | BH11: 14 | BJ11: - | BK11: 16 | BM11: 小曲 | BP11: 4239.036 | BV11: 0.034638 | BZ11: =IF($BZ$7="","",ROUND($BZ$7*$BV11,0)) -> 38 | CD11: =IF($BZ$7="","",IF($BZ11=0,1,$BZ11)) -> 38 | CH11: =IF($BZ$7="","",IF($BZ11=0,1,IF($BZ$7=$CD$52,ROUND($BZ$7/$CD$52*$CD11,0),IF(MAX($BZ$8:$CC$51)<>IF($BZ11=0,1,$BZ11),ROUND($BZ$7/$CD$52*$CD11,0),ROUND($BZ$7/$CD$52*$CD11,0))))) -> 38 | CL11: =IF($BZ$7="","",RANK($BV11,$BV$8:$BY$51)) -> 14 | CP11: =IF($BZ$7="","",IF(AND(($BZ$7-$CH$52)<0,$CL11<=$CL$52),$CH11-1,IF(AND(($BZ$7-$CH$52)>=0,$CL11<=$CL$52),$CH11+1,$CH11))) -> 38 | CX11: 全 | DD11: 全 | DF11: - | DG11: 全
F12: 2.8 | L12: 14 | N12: - | O12: 16 | Q12: 曲 | T12: 4255.244 | Z12: 0.0169072 | AD12: =IF($AD$7="","",ROUND($AD$7*$Z12,0)) -> 29 | AH12: =IF($AD$7="","",IF($AD12=0,1,$AD12)) -> 29 | AL12: =IF($AD$7="","",IF($AD12=0,1,IF($AD$7=$AH$52,ROUND($AD$7/$AH$52*$AH12,0),IF(MAX($AD$8:$AG$51)<>IF($AD12=0,1,$AD12),ROUND($AD$7/$AH$52*$AH12,0),ROUND($AD$7/$AH$52*$AH12,0))))) -> 29 | AP12: =IF($AD$7="","",RANK($Z12,$Z$8:$AC$51)) -> 18 | AT12: =IF($AD$7="","",IF(AND(($AD$7-$AL$52)<0,$AP12<=$AP$52),$AL12-1,IF(AND(($AD$7-$AL$52)>=0,$AP12<=$AP$52),$AL12+1,$AL12))) -> 29 | BB12: 2.8 | BH12: 14 | BJ12: - | BK12: 16 | BM12: 曲 | BP12: 6987.206 | BV12: 0.0570939 | BZ12: =IF($BZ$7="","",ROUND($BZ$7*$BV12,0)) -> 63 | CD12: =IF($BZ$7="","",IF($BZ12=0,1,$BZ12)) -> 63 | CH12: =IF($BZ$7="","",IF($BZ12=0,1,IF($BZ$7=$CD$52,ROUND($BZ$7/$CD$52*$CD12,0),IF(MAX($BZ$8:$CC$51)<>IF($BZ12=0,1,$BZ12),ROUND($BZ$7/$CD$52*$CD12,0),ROUND($BZ$7/$CD$52*$CD12,0))))) -> 62 | CL12: =IF($BZ$7="","",RANK($BV12,$BV$8:$BY$51)) -> 6 | CP12: =IF($BZ$7="","",IF(AND(($BZ$7-$CH$52)<0,$CL12<=$CL$52),$CH12-1,IF(AND(($BZ$7-$CH$52)>=0,$CL12<=$CL$52),$CH12+1,$CH12))) -> 62 | CX12: 全 | DD12: 全 | DF12: - | DG12: 全
F13: 2.8 | L13: 14 | N13: - | O13: 16 | Q13: 等外 | T13: 16418.137 | Z13: 0.0652335 | AD13: =IF($AD$7="","",ROUND($AD$7*$Z13,0)) -> 111 | AH13: =IF($AD$7="","",IF($AD13=0,1,$AD13)) -> 111 | AL13: =IF($AD$7="","",IF($AD13=0,1,IF($AD$7=$AH$52,ROUND($AD$7/$AH$52*$AH13,0),IF(MAX($AD$8:$AG$51)<>IF($AD13=0,1,$AD13),ROUND($AD$7/$AH$52*$AH13,0),ROUND($AD$7/$AH$52*$AH13,0))))) -> 111 | AP13: =IF($AD$7="","",RANK($Z13,$Z$8:$AC$51)) -> 5 | AT13: =IF($AD$7="","",IF(AND(($AD$7-$AL$52)<0,$AP13<=$AP$52),$AL13-1,IF(AND(($AD$7-$AL$52)>=0,$AP13<=$AP$52),$AL13+1,$AL13))) -> 111 | BB13: 2.8 | BH13: 14 | BJ13: - | BK13: 16 | BM13: 等外 | BP13: 8267.856 | BV13: 0.0675584 | BZ13: =IF($BZ$7="","",ROUND($BZ$7*$BV13,0)) -> 74 | CD13: =IF($BZ$7="","",IF($BZ13=0,1,$BZ13)) -> 74 | CH13: =IF($BZ$7="","",IF($BZ13=0,1,IF($BZ$7=$CD$52,ROUND($BZ$7/$CD$52*$CD13,0),IF(MAX($BZ$8:$CC$51)<>IF($BZ13=0,1,$BZ13),ROUND($BZ$7/$CD$52*$CD13,0),ROUND($BZ$7/$CD$52*$CD13,0))))) -> 73 | CL13: =IF($BZ$7="","",RANK($BV13,$BV$8:$BY$51)) -> 3 | CP13: =IF($BZ$7="","",IF(AND(($BZ$7-$CH$52)<0,$CL13<=$CL$52),$CH13-1,IF(AND(($BZ$7-$CH$52)>=0,$CL13<=$CL$52),$CH13+1,$CH13))) -> 73 | CU13: 予定数量 | DL13: =SUM($DL$8) -> 248403.81 | DR13: =SUM($DR$8) -> 1 | DV13: =IF($DV$7="","",SUM($DV$8)) -> 1900 | ED13: =IF($DV$7="","",SUM($DV$8)) -> 1900
F14: 2.8 | I14: 18～22 | L14: 18 | N14: - | O14: 22 | Q14: 直 | T14: 2092.562 | Z14: 0.0083143 | AD14: =IF($AD$7="","",ROUND($AD$7*$Z14,0)) -> 14 | AH14: =IF($AD$7="","",IF($AD14=0,1,$AD14)) -> 14 | AL14: =IF($AD$7="","",IF($AD14=0,1,IF($AD$7=$AH$52,ROUND($AD$7/$AH$52*$AH14,0),IF(MAX($AD$8:$AG$51)<>IF($AD14=0,1,$AD14),ROUND($AD$7/$AH$52*$AH14,0),ROUND($AD$7/$AH$52*$AH14,0))))) -> 14 | AP14: =IF($AD$7="","",RANK($Z14,$Z$8:$AC$51)) -> 28 | AT14: =IF($AD$7="","",IF(AND(($AD$7-$AL$52)<0,$AP14<=$AP$52),$AL14-1,IF(AND(($AD$7-$AL$52)>=0,$AP14<=$AP$52),$AL14+1,$AL14))) -> 14 | BB14: 2.8 | BE14: 18～22 | BH14: 18 | BJ14: - | BK14: 22 | BM14: 直 | BP14: 3393.646 | BV14: 0.0277302 | BZ14: =IF($BZ$7="","",ROUND($BZ$7*$BV14,0)) -> 31 | CD14: =IF($BZ$7="","",IF($BZ14=0,1,$BZ14)) -> 31 | CH14: =IF($BZ$7="","",IF($BZ14=0,1,IF($BZ$7=$CD$52,ROUND($BZ$7/$CD$52*$CD14,0),IF(MAX($BZ$8:$CC$51)<>IF($BZ14=0,1,$BZ14),ROUND($BZ$7/$CD$52*$CD14,0),ROUND($BZ$7/$CD$52*$CD14,0))))) -> 31 | CL14: =IF($BZ$7="","",RANK($BV14,$BV$8:$BY$51)) -> 17 | CP14: =IF($BZ$7="","",IF(AND(($BZ$7-$CH$52)<0,$CL14<=$CL$52),$CH14-1,IF(AND(($BZ$7-$CH$52)>=0,$CL14<=$CL$52),$CH14+1,$CH14))) -> 31
F15: 2.8 | L15: 18 | N15: - | O15: 22 | Q15: 小曲 | T15: 7590.949 | Z15: 0.0301608 | AD15: =IF($AD$7="","",ROUND($AD$7*$Z15,0)) -> 51 | AH15: =IF($AD$7="","",IF($AD15=0,1,$AD15)) -> 51 | AL15: =IF($AD$7="","",IF($AD15=0,1,IF($AD$7=$AH$52,ROUND($AD$7/$AH$52*$AH15,0),IF(MAX($AD$8:$AG$51)<>IF($AD15=0,1,$AD15),ROUND($AD$7/$AH$52*$AH15,0),ROUND($AD$7/$AH$52*$AH15,0))))) -> 51 | AP15: =IF($AD$7="","",RANK($Z15,$Z$8:$AC$51)) -> 12 | AT15: =IF($AD$7="","",IF(AND(($AD$7-$AL$52)<0,$AP15<=$AP$52),$AL15-1,IF(AND(($AD$7-$AL$52)>=0,$AP15<=$AP$52),$AL15+1,$AL15))) -> 51 | BB15: 2.8 | BH15: 18 | BJ15: - | BK15: 22 | BM15: 小曲 | BP15: 4465.4 | BV15: 0.0364877 | BZ15: =IF($BZ$7="","",ROUND($BZ$7*$BV15,0)) -> 40 | CD15: =IF($BZ$7="","",IF($BZ15=0,1,$BZ15)) -> 40 | CH15: =IF($BZ$7="","",IF($BZ15=0,1,IF($BZ$7=$CD$52,ROUND($BZ$7/$CD$52*$CD15,0),IF(MAX($BZ$8:$CC$51)<>IF($BZ15=0,1,$BZ15),ROUND($BZ$7/$CD$52*$CD15,0),ROUND($BZ$7/$CD$52*$CD15,0))))) -> 40 | CL15: =IF($BZ$7="","",RANK($BV15,$BV$8:$BY$51)) -> 13 | CP15: =IF($BZ$7="","",IF(AND(($BZ$7-$CH$52)<0,$CL15<=$CL$52),$CH15-1,IF(AND(($BZ$7-$CH$52)>=0,$CL15<=$CL$52),$CH15+1,$CH15))) -> 40
F16: 2.8 | L16: 18 | N16: - | O16: 22 | Q16: 曲 | T16: 8292.379 | Z16: 0.0329478 | AD16: =IF($AD$7="","",ROUND($AD$7*$Z16,0)) -> 56 | AH16: =IF($AD$7="","",IF($AD16=0,1,$AD16)) -> 56 | AL16: =IF($AD$7="","",IF($AD16=0,1,IF($AD$7=$AH$52,ROUND($AD$7/$AH$52*$AH16,0),IF(MAX($AD$8:$AG$51)<>IF($AD16=0,1,$AD16),ROUND($AD$7/$AH$52*$AH16,0),ROUND($AD$7/$AH$52*$AH16,0))))) -> 56 | AP16: =IF($AD$7="","",RANK($Z16,$Z$8:$AC$51)) -> 9 | AT16: =IF($AD$7="","",IF(AND(($AD$7-$AL$52)<0,$AP16<=$AP$52),$AL16-1,IF(AND(($AD$7-$AL$52)>=0,$AP16<=$AP$52),$AL16+1,$AL16))) -> 56 | BB16: 2.8 | BH16: 18 | BJ16: - | BK16: 22 | BM16: 曲 | BP16: 6330.995 | BV16: 0.0517319 | BZ16: =IF($BZ$7="","",ROUND($BZ$7*$BV16,0)) -> 57 | CD16: =IF($BZ$7="","",IF($BZ16=0,1,$BZ16)) -> 57 | CH16: =IF($BZ$7="","",IF($BZ16=0,1,IF($BZ$7=$CD$52,ROUND($BZ$7/$CD$52*$CD16,0),IF(MAX($BZ$8:$CC$51)<>IF($BZ16=0,1,$BZ16),ROUND($BZ$7/$CD$52*$CD16,0),ROUND($BZ$7/$CD$52*$CD16,0))))) -> 56 | CL16: =IF($BZ$7="","",RANK($BV16,$BV$8:$BY$51)) -> 7 | CP16: =IF($BZ$7="","",IF(AND(($BZ$7-$CH$52)<0,$CL16<=$CL$52),$CH16-1,IF(AND(($BZ$7-$CH$52)>=0,$CL16<=$CL$52),$CH16+1,$CH16))) -> 56
F17: 2.8 | L17: 18 | N17: - | O17: 22 | Q17: 等外 | T17: 24114.206 | Z17: 0.095812 | AD17: =IF($AD$7="","",ROUND($AD$7*$Z17,0)) -> 163 | AH17: =IF($AD$7="","",IF($AD17=0,1,$AD17)) -> 163 | AL17: =IF($AD$7="","",IF($AD17=0,1,IF($AD$7=$AH$52,ROUND($AD$7/$AH$52*$AH17,0),IF(MAX($AD$8:$AG$51)<>IF($AD17=0,1,$AD17),ROUND($AD$7/$AH$52*$AH17,0),ROUND($AD$7/$AH$52*$AH17,0))))) -> 163 | AP17: =IF($AD$7="","",RANK($Z17,$Z$8:$AC$51)) -> 3 | AT17: =IF($AD$7="","",IF(AND(($AD$7-$AL$52)<0,$AP17<=$AP$52),$AL17-1,IF(AND(($AD$7-$AL$52)>=0,$AP17<=$AP$52),$AL17+1,$AL17))) -> 163 | BB17: 2.8 | BH17: 18 | BJ17: - | BK17: 22 | BM17: 等外 | BP17: 7530.776 | BV17: 0.0615355 | BZ17: =IF($BZ$7="","",ROUND($BZ$7*$BV17,0)) -> 68 | CD17: =IF($BZ$7="","",IF($BZ17=0,1,$BZ17)) -> 68 | CH17: =IF($BZ$7="","",IF($BZ17=0,1,IF($BZ$7=$CD$52,ROUND($BZ$7/$CD$52*$CD17,0),IF(MAX($BZ$8:$CC$51)<>IF($BZ17=0,1,$BZ17),ROUND($BZ$7/$CD$52*$CD17,0),ROUND($BZ$7/$CD$52*$CD17,0))))) -> 67 | CL17: =IF($BZ$7="","",RANK($BV17,$BV$8:$BY$51)) -> 5 | CP17: =IF($BZ$7="","",IF(AND(($BZ$7-$CH$52)<0,$CL17<=$CL$52),$CH17-1,IF(AND(($BZ$7-$CH$52)>=0,$CL17<=$CL$52),$CH17+1,$CH17))) -> 67
F18: 2.8 | I18: 24～28 | L18: 24 | N18: - | O18: 28 | Q18: 直 | T18: 891.947 | Z18: 0.0035439 | AD18: =IF($AD$7="","",ROUND($AD$7*$Z18,0)) -> 6 | AH18: =IF($AD$7="","",IF($AD18=0,1,$AD18)) -> 6 | AL18: =IF($AD$7="","",IF($AD18=0,1,IF($AD$7=$AH$52,ROUND($AD$7/$AH$52*$AH18,0),IF(MAX($AD$8:$AG$51)<>IF($AD18=0,1,$AD18),ROUND($AD$7/$AH$52*$AH18,0),ROUND($AD$7/$AH$52*$AH18,0))))) -> 6 | AP18: =IF($AD$7="","",RANK($Z18,$Z$8:$AC$51)) -> 34 | AT18: =IF($AD$7="","",IF(AND(($AD$7-$AL$52)<0,$AP18<=$AP$52),$AL18-1,IF(AND(($AD$7-$AL$52)>=0,$AP18<=$AP$52),$AL18+1,$AL18))) -> 6 | BB18: 2.8 | BE18: 24～28 | BH18: 24 | BJ18: - | BK18: 28 | BM18: 直 | BP18: 311.832 | BV18: 0.002548 | BZ18: =IF($BZ$7="","",ROUND($BZ$7*$BV18,0)) -> 3 | CD18: =IF($BZ$7="","",IF($BZ18=0,1,$BZ18)) -> 3 | CH18: =IF($BZ$7="","",IF($BZ18=0,1,IF($BZ$7=$CD$52,ROUND($BZ$7/$CD$52*$CD18,0),IF(MAX($BZ$8:$CC$51)<>IF($BZ18=0,1,$BZ18),ROUND($BZ$7/$CD$52*$CD18,0),ROUND($BZ$7/$CD$52*$CD18,0))))) -> 3 | CL18: =IF($BZ$7="","",RANK($BV18,$BV$8:$BY$51)) -> 30 | CP18: =IF($BZ$7="","",IF(AND(($BZ$7-$CH$52)<0,$CL18<=$CL$52),$CH18-1,IF(AND(($BZ$7-$CH$52)>=0,$CL18<=$CL$52),$CH18+1,$CH18))) -> 3
F19: 2.8 | L19: 24 | N19: - | O19: 28 | Q19: 小曲 | T19: 2451.871 | Z19: 0.0097419 | AD19: =IF($AD$7="","",ROUND($AD$7*$Z19,0)) -> 17 | AH19: =IF($AD$7="","",IF($AD19=0,1,$AD19)) -> 17 | AL19: =IF($AD$7="","",IF($AD19=0,1,IF($AD$7=$AH$52,ROUND($AD$7/$AH$52*$AH19,0),IF(MAX($AD$8:$AG$51)<>IF($AD19=0,1,$AD19),ROUND($AD$7/$AH$52*$AH19,0),ROUND($AD$7/$AH$52*$AH19,0))))) -> 17 | AP19: =IF($AD$7="","",RANK($Z19,$Z$8:$AC$51)) -> 26 | AT19: =IF($AD$7="","",IF(AND(($AD$7-$AL$52)<0,$AP19<=$AP$52),$AL19-1,IF(AND(($AD$7-$AL$52)>=0,$AP19<=$AP$52),$AL19+1,$AL19))) -> 17 | BB19: 2.8 | BH19: 24 | BJ19: - | BK19: 28 | BM19: 小曲 | BP19: 542.904 | BV19: 0.0044362 | BZ19: =IF($BZ$7="","",ROUND($BZ$7*$BV19,0)) -> 5 | CD19: =IF($BZ$7="","",IF($BZ19=0,1,$BZ19)) -> 5 | CH19: =IF($BZ$7="","",IF($BZ19=0,1,IF($BZ$7=$CD$52,ROUND($BZ$7/$CD$52*$CD19,0),IF(MAX($BZ$8:$CC$51)<>IF($BZ19=0,1,$BZ19),ROUND($BZ$7/$CD$52*$CD19,0),ROUND($BZ$7/$CD$52*$CD19,0))))) -> 5 | CL19: =IF($BZ$7="","",RANK($BV19,$BV$8:$BY$51)) -> 27 | CP19: =IF($BZ$7="","",IF(AND(($BZ$7-$CH$52)<0,$CL19<=$CL$52),$CH19-1,IF(AND(($BZ$7-$CH$52)>=0,$CL19<=$CL$52),$CH19+1,$CH19))) -> 5
F20: 2.8 | L20: 24 | N20: - | O20: 28 | Q20: 曲 | T20: 3221.878 | Z20: 0.0128014 | AD20: =IF($AD$7="","",ROUND($AD$7*$Z20,0)) -> 22 | AH20: =IF($AD$7="","",IF($AD20=0,1,$AD20)) -> 22 | AL20: =IF($AD$7="","",IF($AD20=0,1,IF($AD$7=$AH$52,ROUND($AD$7/$AH$52*$AH20,0),IF(MAX($AD$8:$AG$51)<>IF($AD20=0,1,$AD20),ROUND($AD$7/$AH$52*$AH20,0),ROUND($AD$7/$AH$52*$AH20,0))))) -> 22 | AP20: =IF($AD$7="","",RANK($Z20,$Z$8:$AC$51)) -> 21 | AT20: =IF($AD$7="","",IF(AND(($AD$7-$AL$52)<0,$AP20<=$AP$52),$AL20-1,IF(AND(($AD$7-$AL$52)>=0,$AP20<=$AP$52),$AL20+1,$AL20))) -> 22 | BB20: 2.8 | BH20: 24 | BJ20: - | BK20: 28 | BM20: 曲 | BP20: 765.883 | BV20: 0.0062582 | BZ20: =IF($BZ$7="","",ROUND($BZ$7*$BV20,0)) -> 7 | CD20: =IF($BZ$7="","",IF($BZ20=0,1,$BZ20)) -> 7 | CH20: =IF($BZ$7="","",IF($BZ20=0,1,IF($BZ$7=$CD$52,ROUND($BZ$7/$CD$52*$CD20,0),IF(MAX($BZ$8:$CC$51)<>IF($BZ20=0,1,$BZ20),ROUND($BZ$7/$CD$52*$CD20,0),ROUND($BZ$7/$CD$52*$CD20,0))))) -> 7 | CL20: =IF($BZ$7="","",RANK($BV20,$BV$8:$BY$51)) -> 26 | CP20: =IF($BZ$7="","",IF(AND(($BZ$7-$CH$52)<0,$CL20<=$CL$52),$CH20-1,IF(AND(($BZ$7-$CH$52)>=0,$CL20<=$CL$52),$CH20+1,$CH20))) -> 7
F21: 2.8 | L21: 24 | N21: - | O21: 28 | Q21: 等外 | T21: 7713.034 | Z21: 0.0306459 | AD21: =IF($AD$7="","",ROUND($AD$7*$Z21,0)) -> 52 | AH21: =IF($AD$7="","",IF($AD21=0,1,$AD21)) -> 52 | AL21: =IF($AD$7="","",IF($AD21=0,1,IF($AD$7=$AH$52,ROUND($AD$7/$AH$52*$AH21,0),IF(MAX($AD$8:$AG$51)<>IF($AD21=0,1,$AD21),ROUND($AD$7/$AH$52*$AH21,0),ROUND($AD$7/$AH$52*$AH21,0))))) -> 52 | AP21: =IF($AD$7="","",RANK($Z21,$Z$8:$AC$51)) -> 11 | AT21: =IF($AD$7="","",IF(AND(($AD$7-$AL$52)<0,$AP21<=$AP$52),$AL21-1,IF(AND(($AD$7-$AL$52)>=0,$AP21<=$AP$52),$AL21+1,$AL21))) -> 52 | BB21: 2.8 | BH21: 24 | BJ21: - | BK21: 28 | BM21: 等外 | BP21: 1227.53 | BV21: 0.0100304 | BZ21: =IF($BZ$7="","",ROUND($BZ$7*$BV21,0)) -> 11 | CD21: =IF($BZ$7="","",IF($BZ21=0,1,$BZ21)) -> 11 | CH21: =IF($BZ$7="","",IF($BZ21=0,1,IF($BZ$7=$CD$52,ROUND($BZ$7/$CD$52*$CD21,0),IF(MAX($BZ$8:$CC$51)<>IF($BZ21=0,1,$BZ21),ROUND($BZ$7/$CD$52*$CD21,0),ROUND($BZ$7/$CD$52*$CD21,0))))) -> 11 | CL21: =IF($BZ$7="","",RANK($BV21,$BV$8:$BY$51)) -> 24 | CP21: =IF($BZ$7="","",IF(AND(($BZ$7-$CH$52)<0,$CL21<=$CL$52),$CH21-1,IF(AND(($BZ$7-$CH$52)>=0,$CL21<=$CL$52),$CH21+1,$CH21))) -> 11
F22: 2.8 | I22: 30～36 | L22: 30 | N22: - | O22: 36 | Q22: 直 | T22: 289.304 | Z22: 0.0011495 | AD22: =IF($AD$7="","",ROUND($AD$7*$Z22,0)) -> 2 | AH22: =IF($AD$7="","",IF($AD22=0,1,$AD22)) -> 2 | AL22: =IF($AD$7="","",IF($AD22=0,1,IF($AD$7=$AH$52,ROUND($AD$7/$AH$52*$AH22,0),IF(MAX($AD$8:$AG$51)<>IF($AD22=0,1,$AD22),ROUND($AD$7/$AH$52*$AH22,0),ROUND($AD$7/$AH$52*$AH22,0))))) -> 2 | AP22: =IF($AD$7="","",RANK($Z22,$Z$8:$AC$51)) -> 39 | AT22: =IF($AD$7="","",IF(AND(($AD$7-$AL$52)<0,$AP22<=$AP$52),$AL22-1,IF(AND(($AD$7-$AL$52)>=0,$AP22<=$AP$52),$AL22+1,$AL22))) -> 2 | BB22: 2.8 | BE22: 30～36 | BH22: 30 | BJ22: - | BK22: 36 | BM22: 直 | BP22: 25.821 | BV22: 0.000211 | BZ22: =IF($BZ$7="","",ROUND($BZ$7*$BV22,0)) -> 0 | CD22: =IF($BZ$7="","",IF($BZ22=0,1,$BZ22)) -> 1 | CH22: =IF($BZ$7="","",IF($BZ22=0,1,IF($BZ$7=$CD$52,ROUND($BZ$7/$CD$52*$CD22,0),IF(MAX($BZ$8:$CC$51)<>IF($BZ22=0,1,$BZ22),ROUND($BZ$7/$CD$52*$CD22,0),ROUND($BZ$7/$CD$52*$CD22,0))))) -> 1 | CL22: =IF($BZ$7="","",RANK($BV22,$BV$8:$BY$51)) -> 36 | CP22: =IF($BZ$7="","",IF(AND(($BZ$7-$CH$52)<0,$CL22<=$CL$52),$CH22-1,IF(AND(($BZ$7-$CH$52)>=0,$CL22<=$CL$52),$CH22+1,$CH22))) -> 1
