Workbook
Name コードNO.: #REF!
Name 署等: #REF!

Sheet １号　入札金額内訳書
G1: 別紙様式第１号
A2: 入 札 金 額 内 訳 書
A3: １ 中型車
A5: （１）キロ制運賃の算定
A6: 予定実車 距離数 （実車キロ数） | B6: 車庫から研修所間の１往復の回送キロ数 （10キロ未満の端数は10キロ単位に切り上げ） | C6: 車庫から 研修所間の予定往復 回送回数 | D6: 車庫から研修所間の往復回送 キロ数合計 | E6: キロ制運賃 算定キロ数 | F6: キロ制 運賃単価 | G6: キロ制運賃
A7: A | B7: B | C7: C | D7: D＝B×C | E7: E＝A＋D | F7: F | G7: G＝E×F
A8: 1620 | B8: 0 | C8: 6 | D8: =B8*C8 -> 0 | E8: =IF(D8=0,0,A8+D8) -> 0 | F8: 0 | G8: =E8*F8 -> 0
B9: 10キロ単位で記入 | D9: 10キロ単位となる | E9: 10キロ単位となる | F9: 円単位で記入 | G9: １０円単位となる
A10: （２）時間制運賃の算定
A11: 予定運行 時間数 （出庫前及び帰庫後の点呼・点検時間を含む） | B11: 車庫から研修所間の１往復の回送時間数 （30分未満の端数は切り捨て、30分以上は1時間に切り上げ） | C11: 車庫から 研修所間の予定往復 回送回数 | D11: 車庫から研修所間の往復回送 時間数合計 | E11: 時間制運賃 算定時間数 | F11: 時間制 運賃単価 | G11: 時間制運賃
A12: H | B12: I | C12: J | D12: K＝I×J | E12: L＝H＋K | F12: M | G12: N＝L×M
A13: 81 | B13: 0 | C13: =C8 -> 6 | D13: =B13*C13 -> 0 | E13: =IF(B13=0,0,A13+D13) -> 0 | F13: 0 | G13: =E13*F13 -> 0
B14: 1時間単位で記入 | D14: 1時間単位となる | E14: 1時間単位となる | F14: 円単位で記入 | G14: 円単位となる
E15: 中型車運賃合計 P＝G＋N | G15: =G8+G13 -> 0
A17: ２ 小型車
A19: （１）キロ制運賃の算定
A20: 予定実車 距離数 （実車キロ数） | B20: 車庫から研修所間の１往復の回送キロ数 （10キロ未満の端数は10キロ単位に切り上げ） | C20: 車庫から 研修所間の予定往復 回送回数 | D20: 車庫から研修所間の往復回送 キロ数合計 | E20: キロ制運賃 算定キロ数 | F20: キロ制 運賃単価 | G20: キロ制運賃
A21: A | B21: B | C21: C | D21: D＝B×C | E21: E＝A＋D | F21: F | G21: G＝E×F
A22: 6800 | B22: 0 | C22: 76 | D22: =B22*C22 -> 0 | E22: =IF(D22=0,0,A22+D22) -> 0 | F22: 0 | G22: =E22*F22 -> 0
B23: 10キロ単位で記入 | D23: 10キロ単位となる | E23: 10キロ単位となる | F23: 円単位で記入 | G23: １０円単位となる
A24: （２）時間制運賃の算定
A25: 予定運行 時間数 （出庫前及び帰庫後の点呼・点検時間を含む） | B25: 車庫から研修所間の１往復の回送時間数 （30分未満の端数は切り捨て、30分以上は1時間に切り上げ） | C25: 車庫から 研修所間の予定往復 回送回数 | D25: 車庫から研修所間の往復回送 時間数合計 | E25: 時間制運賃 算定時間数 | F25: 時間制 運賃単価 | G25: 時間制運賃
A26: H | B26: I | C26: J | D26: K＝I×J | E26: L＝H＋K | F26: M | G26: N＝L×M
A27: 653 | B27: 0 | C27: =C22 -> 76 | D27: =B27*C27 -> 0 | E27: =IF(D27=0,0,A27+D27) -> 0 | F27: 0 | G27: =E27*F27 -> 0
B28: 1時間単位で記入 | D28: 1時間単位となる | E28: 1時間単位となる | F28: 円単位で記入 | G28: 円単位となる
E29: 小型車運賃合計 P＝G＋N | G29: =G22+G27 -> 0
E31: 運賃総合計（入札金額） Q＝中型車P＋小型車P | G31: =G15+G29 -> 0

Sheet １号　記載例
G1: 別紙様式第１号
A2: 入 札 金 額 内 訳 書
A3: １ 中型車
A5: （１）キロ制運賃の算定
A6: 予定実車 距離数 （実車キロ数） | B6: 車庫から研修所間の１往復の回送キロ数 （10キロ未満の端数は10キロ単位に切り上げ） | C6: 車庫から 研修所間の予定往復 回送回数 | D6: 車庫から研修所間の往復回送 キロ数合計 | E6: キロ制運賃 算定キロ数 | F6: キロ制 運賃単価 | G6: キロ制運賃
A7: A | B7: B | C7: C | D7: D＝B×C | E7: E＝A＋D | F7: F | G7: G＝E×F
A8: ='１号 入札金額内訳書'!A8 -> 1620 | B8: 30 | C8: ='１号 入札金額内訳書'!C8 -> 6 | D8: =B8*C8 -> 180 | E8: =IF(D8=0,0,A8+D8) -> 1800 | F8: 140 | G8: =E8*F8 -> 252000
B9: 10キロ単位で記入 | D9: 10キロ単位となる | E9: 10キロ単位となる | F9: 円単位で記入 | G9: １０円単位となる
A10: （２）時間制運賃の算定
A11: 予定運行 時間数 （出庫前及び帰庫後の点呼・点検時間を含む） | B11: 車庫から研修所間の１往復の回送時間数 （30分未満の端数は切り捨て、30分以上は1時間に切り上げ） | C11: 車庫から 研修所間の予定往復 回送回数 | D11: 車庫から研修所間の往復回送 時間数合計 | E11: 時間制運賃 算定時間数 | F11: 時間制 運賃単価 | G11: 時間制運賃
A12: H | B12: I | C12: J | D12: K＝I×J | E12: L＝H＋K | F12: M | G12: N＝L×M
A13: ='１号 入札金額内訳書'!A13 -> 81 | B13: 1 | C13: ='１号 入札金額内訳書'!C13 -> 6 | D13: =B13*C13 -> 6 | E13: =IF(B13=0,0,A13+D13) -> 87 | F13: 5560 | G13: =E13*F13 -> 483720
B14: 1時間単位で記入 | D14: 1時間単位となる | E14: 1時間単位となる | F14: 円単位で記入 | G14: 円単位となる
E15: 中型車運賃合計 P＝G＋N | G15: =G8+G13 -> 735720
A17: ２ 小型車
A19: （１）キロ制運賃の算定
A20: 予定実車 距離数 （実車キロ数） | B20: 車庫から研修所間の１往復の回送キロ数 （10キロ未満の端数は10キロ単位に切り上げ） | C20: 車庫から 研修所間の予定往復 回送回数 | D20: 車庫から研修所間の往復回送 キロ数合計 | E20: キロ制運賃 算定キロ数 | F20: キロ制 運賃単価 | G20: キロ制運賃
A21: A | B21: B | C21: C | D21: D＝B×C | E21: E＝A＋D | F21: F | G21: G＝E×F
A22: ='１号 入札金額内訳書'!A22 -> 6800 | B22: =B8 -> 30 | C22: ='１号 入札金額内訳書'!C22 -> 76 | D22: =B22*C22 -> 2280 | E22: =IF(D22=0,0,A22+D22) -> 9080 | F22: 120 | G22: =E22*F22 -> 1089600
B23: 10キロ単位で記入 | D23: 10キロ単位となる | E23: 10キロ単位となる | F23: 円単位で記入 | G23: １０円単位となる
A24: （２）時間制運賃の算定
A25: 予定運行 時間数 （出庫前及び帰庫後の点呼・点検時間を含む） | B25: 車庫から研修所間の１往復の回送時間数 （30分未満の端数は切り捨て、30分以上は1時間に切り上げ） | C25: 車庫から 研修所間の予定往復 回送回数 | D25: 車庫から研修所間の往復回送 時間数合計 | E25: 時間制運賃 算定時間数 | F25: 時間制 運賃単価 | G25: 時間制運賃
A26: H | B26: I | C26: J | D26: K＝I×J | E26: L＝H＋K | F26: M | G26: N＝L×M
A27: ='１号 入札金額内訳書'!A27 -> 653 | B27: =B13 -> 1 | C27: ='１号 入札金額内訳書'!C27 -> 76 | D27: =B27*C27 -> 76 | E27: =IF(D27=0,0,A27+D27) -> 729 | F27: 4770 | G27: =E27*F27 -> 3477330
B28: 1時間単位で記入 | D28: 1時間単位となる | E28: 1時間単位となる | F28: 円単位で記入 | G28: 円単位となる
E29: 小型車運賃合計 P＝G＋N | G29: =G22+G27 -> 4566930
E31: 運賃総合計（入札金額） Q＝中型車P＋小型車P | G31: =G15+G29 -> 5302650

Sheet ２号　質問書
E2: 別紙様式第２号
B4: 令和７年度研修用バス運行業務に関する質問書
B8: 企業名 | C8: 担当者 | E8: 電話番号・メールアドレス
C9: 役職 | D9: 氏名
E10: （直通）
E12: （メールアドレス）
B15: 質問事項
B18: １．入札説明書○○について ２．仕様書○○について
